BEGIN:VCALENDAR
VERSION:2.0
PRODID:-//The Barker Adoption Foundation - ECPv6.15.20//NONSGML v1.0//EN
CALSCALE:GREGORIAN
METHOD:PUBLISH
X-WR-CALNAME:The Barker Adoption Foundation
X-ORIGINAL-URL:https://barkeradoptionfoundation.org
X-WR-CALDESC:Events for The Barker Adoption Foundation
REFRESH-INTERVAL;VALUE=DURATION:PT1H
X-Robots-Tag:noindex
X-PUBLISHED-TTL:PT1H
BEGIN:VTIMEZONE
TZID:America/New_York
BEGIN:DAYLIGHT
TZOFFSETFROM:-0500
TZOFFSETTO:-0400
TZNAME:EDT
DTSTART:20250309T070000
END:DAYLIGHT
BEGIN:STANDARD
TZOFFSETFROM:-0400
TZOFFSETTO:-0500
TZNAME:EST
DTSTART:20251102T060000
END:STANDARD
BEGIN:DAYLIGHT
TZOFFSETFROM:-0500
TZOFFSETTO:-0400
TZNAME:EDT
DTSTART:20260308T070000
END:DAYLIGHT
BEGIN:STANDARD
TZOFFSETFROM:-0400
TZOFFSETTO:-0500
TZNAME:EST
DTSTART:20261101T060000
END:STANDARD
BEGIN:DAYLIGHT
TZOFFSETFROM:-0500
TZOFFSETTO:-0400
TZNAME:EDT
DTSTART:20270314T070000
END:DAYLIGHT
BEGIN:STANDARD
TZOFFSETFROM:-0400
TZOFFSETTO:-0500
TZNAME:EST
DTSTART:20271107T060000
END:STANDARD
END:VTIMEZONE
BEGIN:VEVENT
DTSTART;TZID=America/New_York:20260504T183000
DTEND;TZID=America/New_York:20260504T203000
DTSTAMP:20260421T144851
CREATED:20251110T194345Z
LAST-MODIFIED:20260117T201820Z
UID:10000392-1777919400-1777926600@barkeradoptionfoundation.org
SUMMARY:General Adoption Information Meeting (May)
DESCRIPTION:Exploring adoption? This is the right place to start. Join us for a free\, virtual General Adoption Information Meeting.  \nAgency staff will describe each of our programs: \n Domestic Infant Program  \n\nOlder Child Adoption from Foster Care Program (Project Wait No Longer) \nDomestic Dual Program \nInternational Program \nPost-Adoption Support and Services \n\nYou will also hear from a family\, who has completed the process speak about their experiences and answer questions. \nLocation: Virtual event \nDate and time: Mon\, May 4\, 2026 6:30 PM – 8:30 PM \nRegister Now!
URL:https://barkeradoptionfoundation.org/events-calendar/general-adoption-information-meeting-may/
LOCATION:MD
CATEGORIES:General Adoption Information Meeting,Prospective Parent Domestic Adoption,Prospective Parent International Adoption,Prospective Parent Project Wait No Longer-Older Child Adoption from Foster Care
ATTACH;FMTTYPE=image/png:https://barkeradoptionfoundation.org/wp-content/uploads/2025/11/General-Adoption-Meeting.png
END:VEVENT
BEGIN:VEVENT
DTSTART;TZID=America/New_York:20260508T100000
DTEND;TZID=America/New_York:20260508T113000
DTSTAMP:20260421T144851
CREATED:20260327T204011Z
LAST-MODIFIED:20260327T204011Z
UID:10000496-1778234400-1778239800@barkeradoptionfoundation.org
SUMMARY:Ethical Adoption Practices for Healthcare Workers and other Professionals
DESCRIPTION:Parents facing an unplanned pregnancy may feel overwhelmed when making decisions about their parenting options. Professionals who support them play an important role in ensuring that they receive accurate\, unbiased information and ethical\, non-directive support when deciding what path may be best for them. This training provides the opportunity for those working in the community to be educated about current ethical considerations in adoption practice. Attendees will gain understanding into current adoption process\, learn how to recognize personal biases\, and gain the skills needed to better support individuals considering adoption as one of their options. \nDate: May 8th 10am – 11:30am\nLocation: Virtual\nCost: FREE\nCEU’s: 1.5 CAT I Ethics CEU’s \nAbout the Trainer:\nThis training will be provided by Barker’s Adoption Counselor and Clinical Support Specialist\, Lara Jones\, LMSW. Lara supports expectant parents\, as well as individuals who are already parenting\, who are considering making an adoption plan for their child/ren. She believes strongly in the ethics that surround decision-making and enjoys being an advocate for children and families. \nRegister Now!
URL:https://barkeradoptionfoundation.org/events-calendar/ethical-adoption-practices-for-healthcare-workers-and-other-professionals/
LOCATION:MD
CATEGORIES:Continuing Education Units (CEUs),Professional
ATTACH;FMTTYPE=image/png:https://barkeradoptionfoundation.org/wp-content/uploads/2026/03/Ethical-Adoption.png
END:VEVENT
BEGIN:VEVENT
DTSTART;TZID=America/New_York:20260509T090000
DTEND;TZID=America/New_York:20260509T150000
DTSTAMP:20260421T144851
CREATED:20251110T000505Z
LAST-MODIFIED:20251110T200000Z
UID:10000382-1778317200-1778338800@barkeradoptionfoundation.org
SUMMARY:2026 Pre Adoption Training (NTDC) May
DESCRIPTION:The National Training and Development Curriculum (NTDC) is a nationally recognized\, evidence-based program that prepares you for the lifelong journey of adoption. Required for all prospective Barker adoptive parents\, the course covers core adoption concepts\, trauma and loss\, and strategies for supporting children from diverse backgrounds. Led by professionals and adoptive parents. Participants must be able to join all three sessions in their cohort.  \nMay NTDC Sessions will run:  \n5/9/2026 5/16/2026 5/30/2026  \nTime: 9 AM–3 PM ET \nLocation: Virtual event \nDate and time: Sat\, May 9\, 2026 9:00 AM ET \nOrganizer: Tenisha Lusane\, (301) 664-9664\, tlusane@barkerfoundation.org \nRegister Now!
URL:https://barkeradoptionfoundation.org/events-calendar/2026-pre-adoption-training-ntdc-may/
LOCATION:MD
CATEGORIES:Pre-Adoption Training (NTDC),Prospective Parent Domestic Adoption,Prospective Parent International Adoption,Prospective Parent Project Wait No Longer-Older Child Adoption from Foster Care
ATTACH;FMTTYPE=image/png:https://barkeradoptionfoundation.org/wp-content/uploads/2025/07/Barker-Adoption-Being-Adoption-Journey.png
END:VEVENT
BEGIN:VEVENT
DTSTART;TZID=America/New_York:20260512T190000
DTEND;TZID=America/New_York:20260512T203000
DTSTAMP:20260421T144851
CREATED:20260119T205055Z
LAST-MODIFIED:20260119T205748Z
UID:10000468-1778612400-1778617800@barkeradoptionfoundation.org
SUMMARY:Parents of Adopted Young Adults Monthly Discussion Group (May 2026)
DESCRIPTION:Join us for an evening of discussion and support! This discussion group is targeted to the needs of parents of young adults who are beyond high school age 18+ and will focus on issues related to young adulthood. The group is facilitated by a Barker staff social worker. \nLocation: Virtual event \nDate and time: Tue\, May 12\, 2026 7:00 PM – 8:30 PM \nOrganizer: Elana Lindner\, elindner@barkerfoundation.org \nRegister Now!
URL:https://barkeradoptionfoundation.org/events-calendar/parents-of-adopted-young-adults-monthly-discussion-group-may-2026/
LOCATION:MD
CATEGORIES:Adoptive Parent,Support/Discussion Groups
ATTACH;FMTTYPE=image/png:https://barkeradoptionfoundation.org/wp-content/uploads/2025/08/Barker-Events-Parents-of-YonugAdoptedAdults.png
END:VEVENT
BEGIN:VEVENT
DTSTART;TZID=America/New_York:20260513T190000
DTEND;TZID=America/New_York:20260513T201500
DTSTAMP:20260421T144851
CREATED:20251116T222855Z
LAST-MODIFIED:20260406T001350Z
UID:10000412-1778698800-1778703300@barkeradoptionfoundation.org
SUMMARY:PWNL/Older Child Discussion Group (May)
DESCRIPTION:This group is open to any parent that has adopted a child ages 5 and up\, or who has been matched/placed through Project Wait No Longer (PWNL). \nTo learn more or register\, please contact Michelle Valdivia – mvaldivia@barkerfoundation.org
URL:https://barkeradoptionfoundation.org/events-calendar/pwnl-families-parent-support-group-may-2026/
LOCATION:MD
CATEGORIES:Adoptive Parent,Support/Discussion Groups
ATTACH;FMTTYPE=image/png:https://barkeradoptionfoundation.org/wp-content/uploads/2025/11/PWNL-Families-Parent-Discussion-Group.png
END:VEVENT
BEGIN:VEVENT
DTSTART;TZID=America/New_York:20260513T200000
DTEND;TZID=America/New_York:20260513T210000
DTSTAMP:20260421T144851
CREATED:20251116T222332Z
LAST-MODIFIED:20260311T150738Z
UID:10000410-1778702400-1778706000@barkeradoptionfoundation.org
SUMMARY:International Adoption Information Meeting (May)
DESCRIPTION:During this informative session\, our experienced adoption professionals will cover various topics\, including: \nThe international adoption process. \n\nBarker’s country programs.\nThe eligibility criteria.\nThe necessary paperwork involved.\nBarker’s home study and post-placement services\n\nYou will also get the chance to hear from a family who has successfully adopted a child internationally. \nWhether you’re just beginning your adoption journey or have already started the process\, this meeting will provide you with valuable resources and support. \nLocation: Virtual event \nDate and time: Wed\, May 13\, 2026 8:00 PM – 9:00 PM \nOrganizer: Kelli Olive\, (301) 664-9664\, kolive@barkerfoundation.org \nRegister Now!
URL:https://barkeradoptionfoundation.org/events-calendar/international-adoption-information-meeting-may/
LOCATION:MD
CATEGORIES:International Information Meeting,Prospective Parent International Adoption
ATTACH;FMTTYPE=image/png:https://barkeradoptionfoundation.org/wp-content/uploads/2025/11/International-Adoption-Event.png
ORGANIZER;CN="Barker Adoption Foundation":MAILTO:info@barkeradoptionfoundation.org
END:VEVENT
BEGIN:VEVENT
DTSTART;TZID=America/New_York:20260514T183000
DTEND;TZID=America/New_York:20260514T193000
DTSTAMP:20260421T144851
CREATED:20251116T222557Z
LAST-MODIFIED:20260311T150928Z
UID:10000411-1778783400-1778787000@barkeradoptionfoundation.org
SUMMARY:Older Child Adoption from Foster Care Information Meeting (May)
DESCRIPTION:Attend Barker’s free information meeting and panel presentation lead by our older child adoption from foster care program team – Project Wait No Longer. \nHear directly from those with lived experience and be inspired by the stories of perseverance that will be shared by individuals touched by adoption! If you want to learn more about how you can become a family for a waiting child\, this session is for you. \nLocation: Virtual event \nDate and time: Thu\, May 14\, 2026 6:30 PM – 7:30 PM \nOrganizer: Marilyn Rippetoe\, mrippetoe@barkerfoundation.org \nRegister Now!
URL:https://barkeradoptionfoundation.org/events-calendar/older-child-adoption-from-foster-care-information-meeting-may/
LOCATION:MD
CATEGORIES:Older Child Information Meeting,Prospective Parent Project Wait No Longer-Older Child Adoption from Foster Care
ATTACH;FMTTYPE=image/png:https://barkeradoptionfoundation.org/wp-content/uploads/2025/11/PWNL-Information-Meeting.png
END:VEVENT
BEGIN:VEVENT
DTSTART;TZID=America/New_York:20260514T190000
DTEND;TZID=America/New_York:20260514T203000
DTSTAMP:20260421T144851
CREATED:20260119T201918Z
LAST-MODIFIED:20260119T201918Z
UID:10000457-1778785200-1778790600@barkeradoptionfoundation.org
SUMMARY:Birth Parent Monthly Discussion Group (May 2026)
DESCRIPTION:This Group is open to anyone who has placed a child for adoption or is considering making an adoption plan. The purpose of the group is to provide a place where birth parents can talk about their experiences\, and share their feelings and thoughts with others who have made the same decision. The group is facilitated by a Barker staff social worker. \nLocation: Virtual event \nDate and time: Thu\, May 14\, 2026 7:00 PM – 8:30 PM \nOrganizer: Elana Lindner\, (301) 664-9664\, elindner@barkerfoundation.org \nRegister Now!
URL:https://barkeradoptionfoundation.org/events-calendar/birth-parent-monthly-discussion-group-may-2026/
LOCATION:MD
CATEGORIES:Birth Parent,Support/Discussion Groups
ATTACH;FMTTYPE=image/png:https://barkeradoptionfoundation.org/wp-content/uploads/2025/08/Barker-Event-Birth-Parent-DiscussionGroup.png
END:VEVENT
BEGIN:VEVENT
DTSTART;TZID=America/New_York:20260516T113000
DTEND;TZID=America/New_York:20260516T150000
DTSTAMP:20260421T144851
CREATED:20260305T041338Z
LAST-MODIFIED:20260305T041509Z
UID:10000482-1778931000-1778943600@barkeradoptionfoundation.org
SUMMARY:2026 Barker's International Family Potluck
DESCRIPTION:We’re bringing the world to the table!\nJoin families from all stages of the international adoption journey for an afternoon of culture\, connection\, and community. Celebrate your child’s culture of origin while making new memories with others who share similar experiences. \nEnjoy good food\, participate in hands-on cultural crafts unique to each country\, and connect with other families! \nHave a teen 14+?\nThey’re invited to volunteer and help younger children at craft stations. Let us know if they’re interested! \nLocation: The Barker Adoption Foundation\, 7979 Old Georgetown Rd\, 1st floor\, Bethesda\, MD 20814 \nDate and time: Sat\, May 16\, 2026 11:30 AM – 3:00 PM \nOrganizer: Cynthia Cubbage\, info@barkerfoundation.org \nRegister Now!
URL:https://barkeradoptionfoundation.org/events-calendar/2026-barkers-international-family-potluck/
LOCATION:Barker Adoption Foundation\, 7979 Old Georgetown Road\, Bethesda\, MD\, 20814\, United States
CATEGORIES:Adoptive Parent,Adult Adoptee,Prospective Parent International Adoption,Special Events
ATTACH;FMTTYPE=image/png:https://barkeradoptionfoundation.org/wp-content/uploads/2026/03/2026-International-FamilyPL.png
END:VEVENT
BEGIN:VEVENT
DTSTART;TZID=America/New_York:20260520T180000
DTEND;TZID=America/New_York:20260520T203000
DTSTAMP:20260421T144851
CREATED:20260120T002014Z
LAST-MODIFIED:20260420T195244Z
UID:10000477-1779300000-1779309000@barkeradoptionfoundation.org
SUMMARY:The Barker Adoption Foundation’s 2026 Annual Meeting
DESCRIPTION:Join us for The Barker Adoption Foundation’s 2026 Annual Meeting the evening of May 20\, 2026. This annual gathering brings together Barker supporters\, and advocates to hear updates from leadership\, celebrate the year’s accomplishments\, and elect new members to our Board of Trustees and Friends of Barker Board. Whether you attend in person or online\, this is a chance to come together\, share in our mission\, and be inspired by the impact of our community. Your presence and voice matter. \nLocation: The Barker Adoption Foundation\, 7979 Old Georgetown Rd\, 1st floor\, Bethesda\, MD 20814 \nDate and time: Wed\, May 20\, 2026 6:00 PM – 8:30 PM ET \nOrganizer: Sue Hollar\, (301) 664-9664\, info@barkerfoundation.org \n\n\nIn-Person – Join us at 7979 Old Georgetown Road in Bethesda\, MD. Registration begins at 5:45 PM\, then stay for dinner and our Annual Meeting from 6:30–8:30 PM. \n\n\n\nVirtual – Attend from anywhere virtually via Zoom. The meeting begins at 6:30 PM ET\, and the Zoom link will be emailed to you after registration. \nRegister Now!
URL:https://barkeradoptionfoundation.org/events-calendar/the-barker-adoption-foundations-2026-annual-meeting/
LOCATION:Barker Adoption Foundation\, 7979 Old Georgetown Road\, Bethesda\, MD\, 20814\, United States
CATEGORIES:Adoptive Parent,Adult Adoptee,Birth Parent,Child or Teen Adoptee,Professional,Prospective Parent Domestic Adoption,Prospective Parent International Adoption,Prospective Parent Project Wait No Longer-Older Child Adoption from Foster Care,Special Events
ATTACH;FMTTYPE=image/png:https://barkeradoptionfoundation.org/wp-content/uploads/2026/01/2026-Annual-Meeting-RSVP-Page-Image-placeholder.png
END:VEVENT
BEGIN:VEVENT
DTSTART;TZID=America/New_York:20260520T193000
DTEND;TZID=America/New_York:20260520T210000
DTSTAMP:20260421T144851
CREATED:20251110T223051Z
LAST-MODIFIED:20251224T154021Z
UID:10000403-1779305400-1779310800@barkeradoptionfoundation.org
SUMMARY:Adult Adoptee Discussion Group (May 2026)
DESCRIPTION:This discussion group is open to adoptees 18 years of age and older. The purpose of the group is to give adoptees an opportunity to discuss their feelings\, concerns\, and questions about being adopted. \nLocation: Virtual event \nDate and time: Wed May 20\, 2026 – 7:30 PM – 9:00 PM \nOrganizer: Victoria Alves\, (301) 664-9664\, valves@barkerfoundation.org \nRegister Now!
URL:https://barkeradoptionfoundation.org/events-calendar/adult-adoptee-discussion-group-may-2026/
LOCATION:MD
CATEGORIES:Adult Adoptee,Support/Discussion Groups
ATTACH;FMTTYPE=image/png:https://barkeradoptionfoundation.org/wp-content/uploads/2025/08/Barker-Event-Adult-Adoptee.png
END:VEVENT
BEGIN:VEVENT
DTSTART;TZID=America/New_York:20260521T113000
DTEND;TZID=America/New_York:20260521T130000
DTSTAMP:20260421T144851
CREATED:20260312T181851Z
LAST-MODIFIED:20260312T181851Z
UID:10000493-1779363000-1779368400@barkeradoptionfoundation.org
SUMMARY:Time\, Energy and Attention Management for Non-Profit Employees
DESCRIPTION:You are invited to join executive coach Alan Heymann for a hands-on\, practical session on managing time\, energy\, and attention for success. Learn how to better manage your relationship with time and optimize your energy and focus for long-term effectiveness as a non-profit employee.  Attendees will leave with actionable strategies\, a personal energy map\, and insights to share with colleagues. This session blends Alan’s two decades of leadership experience with real-world examples\, offering valuable tools to try for enhanced leadership impact. \nAbout Our Speaker: \nAlan Heymann\, JD\, PCC (he/him)\, an adoptive parent and Barker board member\, specializes in coaching introverted leaders and guiding clients through transitions. With experience coaching leaders from 32 countries across corporations\, nonprofits\, and governments\, Alan brings a warm\, energetic approach to coaching. He is the author of Don’t Just Have the Soup and Embrace Your Inner Peaches and founded his company Peaceful Direction in 2019. Alan has over two decades of experience in public\, government\, and nonprofit communications\, leading teams of all sizes. \nDate: Thursday May 21st\, 2026\nTime: 11:30am – 1pm\nLocation: In-Person Training! Barker Bethesda Office\, 7979 Old Georgetown Road\, Bethesda\, MD 20814\nCost: $35\nCEU’s: 1.5 CAT I CEU’s \nRegister Now!
URL:https://barkeradoptionfoundation.org/events-calendar/time-energy-and-attention-management-for-non-profit-employees/
LOCATION:Barker Adoption Foundation\, 7979 Old Georgetown Road\, Bethesda\, MD\, 20814\, United States
CATEGORIES:Continuing Education Units (CEUs),Professional
ATTACH;FMTTYPE=image/png:https://barkeradoptionfoundation.org/wp-content/uploads/2026/03/Time-Energy-Attention-Mgmt-for-Non-Profit-Employees.png
END:VEVENT
BEGIN:VEVENT
DTSTART;TZID=America/New_York:20260528T183000
DTEND;TZID=America/New_York:20260528T193000
DTSTAMP:20260421T144851
CREATED:20260311T185101Z
LAST-MODIFIED:20260311T190640Z
UID:10000488-1779993000-1779996600@barkeradoptionfoundation.org
SUMMARY:PWNL Waiting Parent Meeting (May)
DESCRIPTION:This group is open to Barker approved prospective adoptive parents.  Topics related to older child adoption are discussed. \nTo learn more or register\, please contact Caitlin Alfaro – calfaro@barkerfoundation.org
URL:https://barkeradoptionfoundation.org/events-calendar/pwnl-waiting-parent-meeting-may/
LOCATION:MD
CATEGORIES:Older Child Information Meeting,Prospective Parent Project Wait No Longer-Older Child Adoption from Foster Care,Support/Discussion Groups
ATTACH;FMTTYPE=image/png:https://barkeradoptionfoundation.org/wp-content/uploads/2025/11/Waiting-Parent-Meeting-1.png
END:VEVENT
END:VCALENDAR