BEGIN:VCALENDAR
VERSION:2.0
PRODID:-//The Barker Adoption Foundation - ECPv6.15.20//NONSGML v1.0//EN
CALSCALE:GREGORIAN
METHOD:PUBLISH
X-ORIGINAL-URL:https://barkeradoptionfoundation.org
X-WR-CALDESC:Events for The Barker Adoption Foundation
REFRESH-INTERVAL;VALUE=DURATION:PT1H
X-Robots-Tag:noindex
X-PUBLISHED-TTL:PT1H
BEGIN:VTIMEZONE
TZID:America/New_York
BEGIN:DAYLIGHT
TZOFFSETFROM:-0500
TZOFFSETTO:-0400
TZNAME:EDT
DTSTART:20250309T070000
END:DAYLIGHT
BEGIN:STANDARD
TZOFFSETFROM:-0400
TZOFFSETTO:-0500
TZNAME:EST
DTSTART:20251102T060000
END:STANDARD
BEGIN:DAYLIGHT
TZOFFSETFROM:-0500
TZOFFSETTO:-0400
TZNAME:EDT
DTSTART:20260308T070000
END:DAYLIGHT
BEGIN:STANDARD
TZOFFSETFROM:-0400
TZOFFSETTO:-0500
TZNAME:EST
DTSTART:20261101T060000
END:STANDARD
BEGIN:DAYLIGHT
TZOFFSETFROM:-0500
TZOFFSETTO:-0400
TZNAME:EDT
DTSTART:20270314T070000
END:DAYLIGHT
BEGIN:STANDARD
TZOFFSETFROM:-0400
TZOFFSETTO:-0500
TZNAME:EST
DTSTART:20271107T060000
END:STANDARD
END:VTIMEZONE
BEGIN:VEVENT
DTSTART;TZID=America/New_York:20260706T183000
DTEND;TZID=America/New_York:20260706T203000
DTSTAMP:20260421T172146
CREATED:20260117T204347Z
LAST-MODIFIED:20260117T204347Z
UID:10000436-1783362600-1783369800@barkeradoptionfoundation.org
SUMMARY:General Adoption Information Meeting (July)
DESCRIPTION:Exploring adoption? This is the right place to start. Join us for a free\, virtual General Adoption Information Meeting. Agency staff will describe each of our programs: – Domestic Infant Program – Older Child Adoption from Foster Care Program (Project Wait No Longer) – Domestic Dual Program – International Program – Post-Adoption Support and Services You will also hear from a family\, who has completed the process speak about their experiences and answer questions. \nLocation: Virtual event \nDate and time: Mon\, Jul 6\, 2026 6:30 PM – 8:30 PM \nRegister Now!
URL:https://barkeradoptionfoundation.org/events-calendar/general-adoption-information-meeting-july/
LOCATION:MD
CATEGORIES:General Adoption Information Meeting,Prospective Parent Domestic Adoption,Prospective Parent International Adoption,Prospective Parent Project Wait No Longer-Older Child Adoption from Foster Care
ATTACH;FMTTYPE=image/png:https://barkeradoptionfoundation.org/wp-content/uploads/2025/11/General-Adoption-Meeting.png
END:VEVENT
BEGIN:VEVENT
DTSTART;TZID=America/New_York:20260708T190000
DTEND;TZID=America/New_York:20260708T201500
DTSTAMP:20260421T172146
CREATED:20251116T224901Z
LAST-MODIFIED:20260406T001528Z
UID:10000417-1783537200-1783541700@barkeradoptionfoundation.org
SUMMARY:PWNL/Older Child Discussion Group (July)
DESCRIPTION:This group is open to any parent that has adopted a child ages 5 and up\, or who has been matched/placed through Project Wait No Longer (PWNL). \nTo learn more or register\, please contact Michelle Valdivia – mvaldivia@barkerfoundation.org
URL:https://barkeradoptionfoundation.org/events-calendar/pwnl-families-parent-support-group-jul-2026/
LOCATION:MD
CATEGORIES:Adoptive Parent,Support/Discussion Groups
ATTACH;FMTTYPE=image/png:https://barkeradoptionfoundation.org/wp-content/uploads/2025/11/PWNL-Families-Parent-Discussion-Group.png
END:VEVENT
BEGIN:VEVENT
DTSTART;TZID=America/New_York:20260709T190000
DTEND;TZID=America/New_York:20260709T203000
DTSTAMP:20260421T172146
CREATED:20260119T202424Z
LAST-MODIFIED:20260119T202424Z
UID:10000459-1783623600-1783629000@barkeradoptionfoundation.org
SUMMARY:Birth Parent Monthly Discussion Group (July 2026)
DESCRIPTION:This Group is open to anyone who has placed a child for adoption or is considering making an adoption plan. The purpose of the group is to provide a place where birth parents can talk about their experiences\, and share their feelings and thoughts with others who have made the same decision. The group is facilitated by a Barker staff social worker. \nLocation: Virtual event \nDate and time: Thu\, Jul 9\, 2026 7:00 PM – 8:30 PM \nOrganizer: Elana Lindner\, (301) 664-9664\, elindner@barkerfoundation.org \nRegister Now!
URL:https://barkeradoptionfoundation.org/events-calendar/birth-parent-monthly-discussion-group-july-2026/
LOCATION:MD
CATEGORIES:Birth Parent,Support/Discussion Groups
ATTACH;FMTTYPE=image/png:https://barkeradoptionfoundation.org/wp-content/uploads/2025/08/Barker-Event-Birth-Parent-DiscussionGroup.png
END:VEVENT
BEGIN:VEVENT
DTSTART;TZID=America/New_York:20260714T190000
DTEND;TZID=America/New_York:20260714T203000
DTSTAMP:20260421T172146
CREATED:20260119T205618Z
LAST-MODIFIED:20260119T205618Z
UID:10000470-1784055600-1784061000@barkeradoptionfoundation.org
SUMMARY:Parents of Adopted Young Adults Monthly Discussion Group (July 2026)
DESCRIPTION:Join us for an evening of discussion and support! This discussion group is targeted to the needs of parents of young adults who are beyond high school age 18+ and will focus on issues related to young adulthood. The group is facilitated by a Barker staff social worker. \nLocation: Virtual event \nDate and time: Tue\, Jul 14\, 2026 7:00 PM – 8:30 PM \nOrganizer: Elana Lindner\, elindner@barkerfoundation.org \nRegister Now!
URL:https://barkeradoptionfoundation.org/events-calendar/parents-of-adopted-young-adults-monthly-discussion-group-july-2026/
LOCATION:MD
CATEGORIES:Adoptive Parent,Support/Discussion Groups
ATTACH;FMTTYPE=image/png:https://barkeradoptionfoundation.org/wp-content/uploads/2025/08/Barker-Events-Parents-of-YonugAdoptedAdults.png
END:VEVENT
BEGIN:VEVENT
DTSTART;TZID=America/New_York:20260715T130000
DTEND;TZID=America/New_York:20260715T161500
DTSTAMP:20260421T172146
CREATED:20260314T165048Z
LAST-MODIFIED:20260327T205519Z
UID:10000495-1784120400-1784132100@barkeradoptionfoundation.org
SUMMARY:When the Waiting Ends: The Real Work of Becoming a Family
DESCRIPTION:Back by popular demand from our annual conference!\nThe time leading up to a child joining a family can be filled with excitement as parents envision life with this new family member. While they may be excited\, parents can still often find themselves unprepared for the realities of life after placement and the intentional work required to truly become a family. This workshop\, led by Debbie Schugg who is an adoption professional and mother of eight (seven of whom were adopted from foster care)\, will explore what families may experience after their children come home. Participants will gain ideas and specific strategies that can help make the transition from “waiting” parent to “parenting” parent much easier. \nLocation: Virtual event \nDate and time: Wed\, Jul 15\, 2026 1:00 PM – 4:15 PM \nOrganizer: The Barker Adoption Foundation\, (301) 664-9664\, vdownes@barkerfoundation.org \nRegister Now!
URL:https://barkeradoptionfoundation.org/events-calendar/when-the-waiting-ends-the-real-work-of-becoming-a-family/
LOCATION:Barker Adoption Foundation\, 7979 Old Georgetown Road\, Bethesda\, MD\, 20814\, United States
CATEGORIES:Continuing Education Units (CEUs),Professional
ATTACH;FMTTYPE=image/png:https://barkeradoptionfoundation.org/wp-content/uploads/2026/03/CEU-when-waiting-ends.png
END:VEVENT
BEGIN:VEVENT
DTSTART;TZID=America/New_York:20260715T193000
DTEND;TZID=America/New_York:20260715T210000
DTSTAMP:20260421T172146
CREATED:20251110T223229Z
LAST-MODIFIED:20251224T154148Z
UID:10000404-1784143800-1784149200@barkeradoptionfoundation.org
SUMMARY:Adult Adoptee Discussion Group (July 2026)
DESCRIPTION:This discussion group is open to adoptees 18 years of age and older. The purpose of the group is to give adoptees an opportunity to discuss their feelings\, concerns\, and questions about being adopted. \nLocation: Virtual event \nDate and time: Wed Jul 15\, 2026 – 7:30 PM – 9:00 PM \nOrganizer: Victoria Alves\, (301) 664-9664\, valves@barkerfoundation.org \nRegister Now!
URL:https://barkeradoptionfoundation.org/events-calendar/adult-adoptee-discussion-group-july-2026/
LOCATION:MD
CATEGORIES:Adult Adoptee,Support/Discussion Groups
ATTACH;FMTTYPE=image/png:https://barkeradoptionfoundation.org/wp-content/uploads/2025/08/Barker-Event-Adult-Adoptee.png
END:VEVENT
BEGIN:VEVENT
DTSTART;TZID=America/New_York:20260716T183000
DTEND;TZID=America/New_York:20260716T193000
DTSTAMP:20260421T172146
CREATED:20260117T210910Z
LAST-MODIFIED:20260311T150922Z
UID:10000445-1784226600-1784230200@barkeradoptionfoundation.org
SUMMARY:Older Child Adoption from Foster Care Information Meeting (July)
DESCRIPTION:Attend Barker’s free information meeting and panel presentation lead by our older child adoption from foster care program team – Project Wait No Longer. Hear directly from those with lived experience and be inspired by the stories of perseverance that will be shared by individuals touched by adoption! If you want to learn more about how you can become a family for a waiting child\, this session is for you. \nLocation: Virtual event \nDate and time: Thu\, Jul 16\, 2026 6:30 PM – 7:30 PM \nOrganizer: Marilyn Rippetoe\, mrippetoe@barkerfoundation.org \nRegister Now!
URL:https://barkeradoptionfoundation.org/events-calendar/older-child-adoption-from-foster-care-information-meeting-july-2/
LOCATION:MD
CATEGORIES:Older Child Information Meeting,Prospective Parent Project Wait No Longer-Older Child Adoption from Foster Care
ATTACH;FMTTYPE=image/png:https://barkeradoptionfoundation.org/wp-content/uploads/2025/11/PWNL-Information-Meeting.png
END:VEVENT
BEGIN:VEVENT
DTSTART;TZID=America/New_York:20260716T200000
DTEND;TZID=America/New_York:20260716T210000
DTSTAMP:20260421T172146
CREATED:20260117T205736Z
LAST-MODIFIED:20260421T024153Z
UID:10000441-1784232000-1784235600@barkeradoptionfoundation.org
SUMMARY:International Adoption Information Meeting (July)
DESCRIPTION:During this informative session\, our experienced adoption professionals will cover various topics\, including: – The international adoption process. – Barker’s country programs. – The eligibility criteria. – The necessary paperwork involved. – Barker’s home study and post-placement services You will also get the chance to hear from a family who has successfully adopted a child internationally. Whether you’re just beginning your adoption journey or have already started the process\, this meeting will provide you with valuable resources and support. \nLocation: Virtual event \nDate and time: Thu\, Jul 16\, 2026 8:00 PM – 9:00 PM \nOrganizer: Kelli Olive\, (301) 664-9664\, kolive@barkerfoundation.org \nRegister Now!
URL:https://barkeradoptionfoundation.org/events-calendar/international-adoption-information-meeting-july-2/
LOCATION:MD
CATEGORIES:International Information Meeting,Prospective Parent International Adoption
ATTACH;FMTTYPE=image/png:https://barkeradoptionfoundation.org/wp-content/uploads/2025/11/International-Adoption-Event.png
ORGANIZER;CN="Barker Adoption Foundation":MAILTO:info@barkeradoptionfoundation.org
END:VEVENT
BEGIN:VEVENT
DTSTART;TZID=America/New_York:20260718T090000
DTEND;TZID=America/New_York:20260718T150000
DTSTAMP:20260421T172146
CREATED:20260117T211755Z
LAST-MODIFIED:20260120T224124Z
UID:10000448-1784365200-1784386800@barkeradoptionfoundation.org
SUMMARY:2026 Pre Adoption Training (NTDC) July
DESCRIPTION:The National Training and Development Curriculum (NTDC) is a nationally recognized\, evidence-based program that prepares you for the lifelong journey of adoption. Required for all prospective Barker adoptive parents\, the course covers core adoption concepts\, trauma and loss\, and strategies for supporting children from diverse backgrounds. Led by professionals and adoptive parents. Participants must be able to join all three sessions in their cohort. \nJuly NTDC Sessions will run: \n\nJuly 18\nJuly 25\nAug 1\n\nTime: 9 AM–3 PM ET \nLocation: Virtual event \nDate and time: Sat\, Jul 18\, 2026 9:00 AM ET \nOrganizer: Tenisha Lusane\, (301) 664-9664\, tlusane@barkerfoundation.org \nRegister Now!
URL:https://barkeradoptionfoundation.org/events-calendar/2026-pre-adoption-training-ntdc-july-2/
LOCATION:MD
CATEGORIES:Pre-Adoption Training (NTDC),Prospective Parent Domestic Adoption,Prospective Parent International Adoption,Prospective Parent Project Wait No Longer-Older Child Adoption from Foster Care
ATTACH;FMTTYPE=image/png:https://barkeradoptionfoundation.org/wp-content/uploads/2025/07/Barker-Adoption-Being-Adoption-Journey.png
END:VEVENT
BEGIN:VEVENT
DTSTART;TZID=America/New_York:20260723T183000
DTEND;TZID=America/New_York:20260723T193000
DTSTAMP:20260421T172146
CREATED:20260311T185136Z
LAST-MODIFIED:20260311T190625Z
UID:10000489-1784831400-1784835000@barkeradoptionfoundation.org
SUMMARY:PWNL Waiting Parent Meeting (July)
DESCRIPTION:This group is open to Barker approved prospective adoptive parents.  Topics related to older child adoption are discussed. \nTo learn more or register\, please contact Caitlin Alfaro – calfaro@barkerfoundation.org
URL:https://barkeradoptionfoundation.org/events-calendar/pwnl-waiting-parent-meeting-july/
LOCATION:MD
CATEGORIES:Older Child Information Meeting,Prospective Parent Project Wait No Longer-Older Child Adoption from Foster Care,Support/Discussion Groups
ATTACH;FMTTYPE=image/png:https://barkeradoptionfoundation.org/wp-content/uploads/2025/11/Waiting-Parent-Meeting-1.png
END:VEVENT
END:VCALENDAR