BEGIN:VCALENDAR
VERSION:2.0
PRODID:-//The Barker Adoption Foundation - ECPv6.15.20//NONSGML v1.0//EN
CALSCALE:GREGORIAN
METHOD:PUBLISH
X-ORIGINAL-URL:https://barkeradoptionfoundation.org
X-WR-CALDESC:Events for The Barker Adoption Foundation
REFRESH-INTERVAL;VALUE=DURATION:PT1H
X-Robots-Tag:noindex
X-PUBLISHED-TTL:PT1H
BEGIN:VTIMEZONE
TZID:America/New_York
BEGIN:DAYLIGHT
TZOFFSETFROM:-0500
TZOFFSETTO:-0400
TZNAME:EDT
DTSTART:20250309T070000
END:DAYLIGHT
BEGIN:STANDARD
TZOFFSETFROM:-0400
TZOFFSETTO:-0500
TZNAME:EST
DTSTART:20251102T060000
END:STANDARD
BEGIN:DAYLIGHT
TZOFFSETFROM:-0500
TZOFFSETTO:-0400
TZNAME:EDT
DTSTART:20260308T070000
END:DAYLIGHT
BEGIN:STANDARD
TZOFFSETFROM:-0400
TZOFFSETTO:-0500
TZNAME:EST
DTSTART:20261101T060000
END:STANDARD
BEGIN:DAYLIGHT
TZOFFSETFROM:-0500
TZOFFSETTO:-0400
TZNAME:EDT
DTSTART:20270314T070000
END:DAYLIGHT
BEGIN:STANDARD
TZOFFSETFROM:-0400
TZOFFSETTO:-0500
TZNAME:EST
DTSTART:20271107T060000
END:STANDARD
END:VTIMEZONE
BEGIN:VEVENT
DTSTART;TZID=America/New_York:20260803T183000
DTEND;TZID=America/New_York:20260803T203000
DTSTAMP:20260421T182551
CREATED:20260117T204636Z
LAST-MODIFIED:20260117T204636Z
UID:10000437-1785781800-1785789000@barkeradoptionfoundation.org
SUMMARY:General Adoption Information Meeting (August)
DESCRIPTION:Exploring adoption? This is the right place to start. Join us for a free\, virtual General Adoption Information Meeting. Agency staff will describe each of our programs: – Domestic Infant Program – Older Child Adoption from Foster Care Program (Project Wait No Longer) – Domestic Dual Program – International Program – Post-Adoption Support and Services You will also hear from a family\, who has completed the process speak about their experiences and answer questions. \nLocation: Virtual event \nDate and time: Mon\, Aug 3\, 2026 6:30 PM – 8:30 PM \nRegister Now!
URL:https://barkeradoptionfoundation.org/events-calendar/general-adoption-information-meeting-august-2/
LOCATION:MD
CATEGORIES:General Adoption Information Meeting,Prospective Parent Domestic Adoption,Prospective Parent International Adoption,Prospective Parent Project Wait No Longer-Older Child Adoption from Foster Care
ATTACH;FMTTYPE=image/png:https://barkeradoptionfoundation.org/wp-content/uploads/2025/11/General-Adoption-Meeting.png
END:VEVENT
BEGIN:VEVENT
DTSTART;TZID=America/New_York:20260811T190000
DTEND;TZID=America/New_York:20260811T203000
DTSTAMP:20260421T182551
CREATED:20260121T213724Z
LAST-MODIFIED:20260121T213724Z
UID:10000480-1786474800-1786480200@barkeradoptionfoundation.org
SUMMARY:Parents of Adopted Young Adults Monthly Discussion Group (August 2026)
DESCRIPTION:Join us for an evening of discussion and support! This discussion group is targeted to the needs of parents of young adults who are beyond high school age 18+ and will focus on issues related to young adulthood. The group is facilitated by a Barker staff social worker. \nLocation: Virtual event \nDate and time: Tue\, Aug 11\, 2026 7:00 PM – 8:30 PM \nOrganizer: Elana Lindner\, elindner@barkerfoundation.org \nRegister Now!
URL:https://barkeradoptionfoundation.org/events-calendar/parents-of-adopted-young-adults-monthly-discussion-group-august-2026/
LOCATION:MD
CATEGORIES:Adoptive Parent,Support/Discussion Groups
ATTACH;FMTTYPE=image/png:https://barkeradoptionfoundation.org/wp-content/uploads/2025/08/Barker-Events-Parents-of-YonugAdoptedAdults.png
END:VEVENT
BEGIN:VEVENT
DTSTART;VALUE=DATE:20260812
DTEND;VALUE=DATE:20260813
DTSTAMP:20260421T182551
CREATED:20260311T184422Z
LAST-MODIFIED:20260311T190800Z
UID:10000485-1786492800-1786579199@barkeradoptionfoundation.org
SUMMARY:Domestic Infant/International Waiting Parent Meetings (August)
DESCRIPTION:This group is open to Barker approved prospective adoptive parents.  Current topics related to domestic and international adoption are discussed. \nTo learn more or register\, please contact Caitlin Alfaro – calfaro@barkerfoundation.org
URL:https://barkeradoptionfoundation.org/events-calendar/domestic-infant-international-waiting-parent-meetings-august/
LOCATION:Barker Adoption Foundation\, 7979 Old Georgetown Road\, Bethesda\, MD\, 20814\, United States
CATEGORIES:Prospective Parent Domestic Adoption,Prospective Parent International Adoption,Support/Discussion Groups
ATTACH;FMTTYPE=image/jpeg:https://barkeradoptionfoundation.org/wp-content/uploads/2025/12/Barker-Adoption-Foundation-homepage.jpg
END:VEVENT
BEGIN:VEVENT
DTSTART;TZID=America/New_York:20260812T190000
DTEND;TZID=America/New_York:20260812T201500
DTSTAMP:20260421T182551
CREATED:20251116T225242Z
LAST-MODIFIED:20260406T001524Z
UID:10000418-1786561200-1786565700@barkeradoptionfoundation.org
SUMMARY:PWNL/Older Child Discussion Group (Aug)
DESCRIPTION:This group is open to any parent that has adopted a child ages 5 and up\, or who has been matched/placed through Project Wait No Longer (PWNL). \nTo learn more or register\, please contact Michelle Valdivia – mvaldivia@barkerfoundation.org
URL:https://barkeradoptionfoundation.org/events-calendar/pwnl-families-parent-support-group-aug-2026/
LOCATION:MD
CATEGORIES:Adoptive Parent,Support/Discussion Groups
ATTACH;FMTTYPE=image/png:https://barkeradoptionfoundation.org/wp-content/uploads/2025/11/PWNL-Families-Parent-Discussion-Group.png
END:VEVENT
BEGIN:VEVENT
DTSTART;TZID=America/New_York:20260813T190000
DTEND;TZID=America/New_York:20260813T203000
DTSTAMP:20260421T182551
CREATED:20260119T202747Z
LAST-MODIFIED:20260119T202747Z
UID:10000460-1786647600-1786653000@barkeradoptionfoundation.org
SUMMARY:Birth Parent Monthly Discussion Group (August 2026)
DESCRIPTION:This Group is open to anyone who has placed a child for adoption or is considering making an adoption plan. The purpose of the group is to provide a place where birth parents can talk about their experiences\, and share their feelings and thoughts with others who have made the same decision. The group is facilitated by a Barker staff social worker. \nLocation: Virtual event \nDate and time: Thu\, Aug 13\, 2026 7:00 PM – 8:30 PM \nOrganizer: Elana Lindner\, (301) 664-9664\, elindner@barkerfoundation.org \nRegister Now!
URL:https://barkeradoptionfoundation.org/events-calendar/birth-parent-monthly-discussion-group-august-2026-2/
LOCATION:MD
CATEGORIES:Birth Parent,Support/Discussion Groups
ATTACH;FMTTYPE=image/png:https://barkeradoptionfoundation.org/wp-content/uploads/2025/08/Barker-Event-Birth-Parent-DiscussionGroup.png
END:VEVENT
BEGIN:VEVENT
DTSTART;VALUE=DATE:20260817
DTEND;VALUE=DATE:20260822
DTSTAMP:20260421T182551
CREATED:20260120T224800Z
LAST-MODIFIED:20260120T225005Z
UID:10000478-1786924800-1787356799@barkeradoptionfoundation.org
SUMMARY:Barker's Summer Program for Rising 5th-8th graders
DESCRIPTION:Program Session: August 17\, 2026-August 21\, 2026 This is a great opportunity for your child to connect with other adopted children and engage in fun outdoor and indoor activities\, arts & crafts\, and thoughtful adoption-focused exercises to continue building social skills\, adoption identity\, and confidence. \nLocation: The Barker Adoption Foundation\, 7979 Old Georgetown Rd\, 1st floor\, Bethesda\, MD 20814 \nDate and time: Mon\, Aug 17\, 2026 9:30 AM \nOrganizer: Elana Lindner\, (301) 664-9664\, info@barkerfoundation.org \nRegister Now!
URL:https://barkeradoptionfoundation.org/events-calendar/barkers-summer-program-for-rising-5th-8th-graders/
LOCATION:Barker Adoption Foundation\, 7979 Old Georgetown Road\, Bethesda\, MD\, 20814\, United States
CATEGORIES:Child or Teen Adoptee,Special Events
ATTACH;FMTTYPE=image/png:https://barkeradoptionfoundation.org/wp-content/uploads/2026/01/2025-Summer-Program-Social-Post-_2_.png
END:VEVENT
BEGIN:VEVENT
DTSTART;TZID=America/New_York:20260819T193000
DTEND;TZID=America/New_York:20260819T210000
DTSTAMP:20260421T182551
CREATED:20251110T222048Z
LAST-MODIFIED:20251224T154323Z
UID:10000399-1787167800-1787173200@barkeradoptionfoundation.org
SUMMARY:Adult Adoptee Discussion Group (August 2026)
DESCRIPTION:This discussion group is open to adoptees 18 years of age and older. The purpose of the group is to give adoptees an opportunity to discuss their feelings\, concerns\, and questions about being adopted. \nLocation: Virtual event \nDate and time: Wed Aug 19\, 2026 – 7:30 PM – 9:00 PM \nOrganizer: Victoria Alves\, (301) 664-9664\, valves@barkerfoundation.org \nRegister Now!
URL:https://barkeradoptionfoundation.org/events-calendar/adult-adoptee-discussion-group-august-2026/
LOCATION:MD
CATEGORIES:Adult Adoptee,Support/Discussion Groups
ATTACH;FMTTYPE=image/png:https://barkeradoptionfoundation.org/wp-content/uploads/2025/08/Barker-Event-Adult-Adoptee.png
END:VEVENT
END:VCALENDAR