BEGIN:VCALENDAR
VERSION:2.0
PRODID:-//The Barker Adoption Foundation - ECPv6.15.20//NONSGML v1.0//EN
CALSCALE:GREGORIAN
METHOD:PUBLISH
X-ORIGINAL-URL:https://barkeradoptionfoundation.org
X-WR-CALDESC:Events for The Barker Adoption Foundation
REFRESH-INTERVAL;VALUE=DURATION:PT1H
X-Robots-Tag:noindex
X-PUBLISHED-TTL:PT1H
BEGIN:VTIMEZONE
TZID:America/New_York
BEGIN:DAYLIGHT
TZOFFSETFROM:-0500
TZOFFSETTO:-0400
TZNAME:EDT
DTSTART:20240310T070000
END:DAYLIGHT
BEGIN:STANDARD
TZOFFSETFROM:-0400
TZOFFSETTO:-0500
TZNAME:EST
DTSTART:20241103T060000
END:STANDARD
BEGIN:DAYLIGHT
TZOFFSETFROM:-0500
TZOFFSETTO:-0400
TZNAME:EDT
DTSTART:20250309T070000
END:DAYLIGHT
BEGIN:STANDARD
TZOFFSETFROM:-0400
TZOFFSETTO:-0500
TZNAME:EST
DTSTART:20251102T060000
END:STANDARD
BEGIN:DAYLIGHT
TZOFFSETFROM:-0500
TZOFFSETTO:-0400
TZNAME:EDT
DTSTART:20260308T070000
END:DAYLIGHT
BEGIN:STANDARD
TZOFFSETFROM:-0400
TZOFFSETTO:-0500
TZNAME:EST
DTSTART:20261101T060000
END:STANDARD
END:VTIMEZONE
BEGIN:VEVENT
DTSTART;TZID=America/New_York:20250917T190000
DTEND;TZID=America/New_York:20250917T210000
DTSTAMP:20260422T001032
CREATED:20250803T140410Z
LAST-MODIFIED:20250803T143425Z
UID:10000347-1758135600-1758142800@barkeradoptionfoundation.org
SUMMARY:Birth Parent Monthly Discussion Group (September 2025)
DESCRIPTION:This Group is open to anyone who has placed a child for adoption or is considering making an adoption plan. The purpose of the group is to provide a place where birth parents can talk about their experiences\, and share their feelings and thoughts with others who have made the same decision. The group is facilitated by a Barker staff social worker. \nLocation: Virtual event\nDate and time: Wed\, Sep 17\, 2025 7:00 PM – 9:00 PM\nOrganizer: May Kipnis\, (301) 664-9664\, mkipnis@barkeradoptionfoundation.org \nLet Us Know You’ll Be Joining!\nWhile this group is free and open to all birth and expecting parents regardless of their connection to Barker\, registration is required. \nRegister Now!
URL:https://barkeradoptionfoundation.org/events-calendar/birth-parent-monthly-discussion-group-september-2025/
LOCATION:MD
CATEGORIES:Birth Parent,Support/Discussion Groups
ATTACH;FMTTYPE=image/png:https://barkeradoptionfoundation.org/wp-content/uploads/2025/08/Barker-Event-Birth-Parent-DiscussionGroup.png
END:VEVENT
BEGIN:VEVENT
DTSTART;TZID=America/New_York:20250917T193000
DTEND;TZID=America/New_York:20250917T213000
DTSTAMP:20260422T001032
CREATED:20250803T140846Z
LAST-MODIFIED:20250803T142750Z
UID:10000348-1758137400-1758144600@barkeradoptionfoundation.org
SUMMARY:Adult Adoptee Monthly Discussion Group (September 2025)
DESCRIPTION:This discussion group is open to adoptees 18 years of age and older. The purpose of the group is to give adoptees an opportunity to discuss their feelings\, concerns\, and questions about being adopted. \nLocation: Virtual event\nDate and time: Wed\, Sep 17\, 2025 7:30 PM – 9:30 PM\nOrganizer: May Kipnis\, mkipnis@barkeradoptionfoundation.org \nLet Us Know You’ll Be Joining!\nWhile this group is free and open to all adult adopted persons regardless of their connection to Barker\, registration is required. \nRegister Now!
URL:https://barkeradoptionfoundation.org/events-calendar/adult-adoptee-monthly-discussion-group-september-2025/
LOCATION:MD
CATEGORIES:Adult Adoptee,Support/Discussion Groups
ATTACH;FMTTYPE=image/png:https://barkeradoptionfoundation.org/wp-content/uploads/2025/08/Barker-Event-Adult-Adoptee.png
END:VEVENT
BEGIN:VEVENT
DTSTART;TZID=America/New_York:20250917T200000
DTEND;TZID=America/New_York:20250917T210000
DTSTAMP:20260422T001032
CREATED:20250802T025557Z
LAST-MODIFIED:20260311T150803Z
UID:10000341-1758139200-1758142800@barkeradoptionfoundation.org
SUMMARY:International Adoption Information Meeting (September 2025)
DESCRIPTION:We invite you to sign up for Barker’s FREE information meeting focused solely on our International Adoption Programs & Services if you are exploring international adoption. Learn more about your adoption options\, our country programs\, home study\, and post-placement services. \nJoin us virtually on Wednesday\, September 17th from 8 PM to 9 PM to learn more about our country programs as well as details on the children in need of adoptive families within each country\, services we provide if you are out of the area\, and answers to your questions. \nDuring this informative session\, our experienced adoption professionals will cover various topics\, including: \n\nThe international adoption process.\nBarker’s country programs.\nThe eligibility criteria.\nThe necessary paperwork involved.\nBarker’s home study and post-placement services\n\nYou will also get the chance to hear from a family who has successfully adopted a child internationally. Whether you’re just beginning your adoption journey or have already started the process\, this meeting will provide you with valuable resources and support. \nLocation: Virtual event\nDate and time: Wed\, Sep 17\, 2025 8:00 PM – 9:00 PM\nOrganizer: Kelli Olive\, (301) 664-9664\, kolive@barkeradoptionfoundation.org \nRegister Now!
URL:https://barkeradoptionfoundation.org/events-calendar/september-2025-international-adoption-information-meeting/
LOCATION:MD
CATEGORIES:International Information Meeting,Prospective Parent International Adoption
ATTACH;FMTTYPE=image/png:https://barkeradoptionfoundation.org/wp-content/uploads/2025/08/Barker-Event-International-Adoption.png
END:VEVENT
BEGIN:VEVENT
DTSTART;TZID=America/New_York:20250918T183000
DTEND;TZID=America/New_York:20250918T193000
DTSTAMP:20260422T001032
CREATED:20250802T030957Z
LAST-MODIFIED:20250803T134845Z
UID:10000343-1758220200-1758223800@barkeradoptionfoundation.org
SUMMARY:Older Child Adoption Information Meeting (September 2025)
DESCRIPTION:Join us for a free online Information Meeting to discuss adoption from foster care on September 18\, 2025 at 6:30 PM ET. Learn about Barker’s services and hear the real-life experiences of children from foster care and the families who adopted them. \nBarker is unique in offering a full range of services after adoption to support you and your adopted child for a lifetime\, has a stellar reputation\, and has been active for over 75 years\, one of the oldest agencies in the U.S.. Join us to learn more! \nThere are over 100\,000 children who are presently legally available for adoption in the United States and in need of safe and loving forever homes.\nOlder children are often stigmatized\, and potential families may worry about their capacity to care for a child who has experienced significant trauma. Barker provides a high level of support which begins from the pre-adoption trainings and continues through post-placement and finalization.  While it is true that challenges may arise\, there is joy and great reward in older child adoption. There are families who are open to adopting children from foster care\, but few know of the options available to them to adopt through a private agency with lifelong services and supports. \nAttend Barker’s free information meeting and panel presentation lead by our older child adoption from foster care program team – Project Wait No Longer. \nHear directly from families who have adopted older children from foster care. Be inspired by the stories of perseverance that will be shared by adoptees themselves! If you want to learn more about how you can become a forever family for a waiting child\, this session is for you. \nFacilitated by adoption expert: Saara McEachnie\, LICSW\, LCSW-C. \nLocation: Virtual event\nDate and time: Thu\, Sep 18\, 2025 6:30 PM – 7:30 PM\nOrganizer: Marilyn Rippetoe\, mrippetoe@barkeradoptionfoundation.org \nRegister Now!
URL:https://barkeradoptionfoundation.org/events-calendar/september-2025-older-child-adoption-information-meeting/
LOCATION:MD
CATEGORIES:General Adoption Information Meeting,Older Child Information Meeting,Prospective Parent Project Wait No Longer-Older Child Adoption from Foster Care
ATTACH;FMTTYPE=image/png:https://barkeradoptionfoundation.org/wp-content/uploads/2025/08/Barker-Event-PWNL.png
END:VEVENT
BEGIN:VEVENT
DTSTART;TZID=America/New_York:20250920T090000
DTEND;TZID=America/New_York:20250920T150000
DTSTAMP:20260422T001032
CREATED:20250803T150325Z
LAST-MODIFIED:20250803T150325Z
UID:10000364-1758358800-1758380400@barkeradoptionfoundation.org
SUMMARY:Pre-Adoption Training (NTDC) (2025 September)
DESCRIPTION:2025 September Pre-Adoption Training (NTDC)\n			September 13\n	  @\n9:00 am\n	  –\n3:00 pm\n	 \nNTDC is a pre-adoption class that is required for families considering adoption through Barker. Families must be available to attend all 3 virtual sessions (September 6th\, 13th & 20th 9-3pm) to receive a certificate of completion. In addition\, one virtual program specific session is required. \nAre you ready to begin your adoption journey?  Completing this training is great first step!\nPre-Adoption Training is intended to educate\, support\, and prepare families who will be adopting a child through the US foster care system\, international or private domestic process. Families will enhance core competencies and gain skills to effectively parent children from a variety of different backgrounds\, who have experienced trauma\, separation and loss. Through shared learning with others and with the facilitation of an experienced professional and parent team\, we believe that families can provide the healing environment that children need. \nRegister Now! \n\nImportant Information:\n\nCompleting this training is required to adopt.\nMakeup sessions for classes missed due to an unexpected emergency may be made up at no cost with the following cohort\, or on a case by case basis and at the discretion of the trainer/program\, made available\, individually\, for an additional fee. These make-up sessions are not available for the first session of NTDC.\nParticipants missing more than one session (for any reason) will be disenrolled from the class and required to complete the entire training again at a time that better fits their schedule. It is strongly recommended that registrants arrange their schedules to accommodate being present at each class session.\nVirtual sessions are held via a live/online platform. Participants must have their cameras turned on for the duration of the training in order to receive a certificate of completion.\nSome material may not be suitable for children so we ask that any children that you may have not be present during any of the sessions.\nFor further questions about class and scheduling\, please contact Tenisha Lusane: Tlusane@barkeradoptionfoundation.org\n*Cancellation Policy*: Registrations may by cancelled up to 30 days before the start date of the registered session for a fee of $75. All fees are non-refundable within 30 days of the event.
URL:https://barkeradoptionfoundation.org/events-calendar/pre-adoption-training-ntdc-2025-september/
LOCATION:Barker Adoption Foundation\, 7979 Old Georgetown Road\, Bethesda\, MD\, 20814\, United States
CATEGORIES:Educational Workshops,Pre-Adoption Training (NTDC),Prospective Parent Domestic Adoption,Prospective Parent International Adoption,Prospective Parent Project Wait No Longer-Older Child Adoption from Foster Care
ATTACH;FMTTYPE=image/png:https://barkeradoptionfoundation.org/wp-content/uploads/2025/07/NTDC-Banner_3.png
END:VEVENT
END:VCALENDAR