BEGIN:VCALENDAR
VERSION:2.0
PRODID:-//The Barker Adoption Foundation - ECPv6.15.20//NONSGML v1.0//EN
CALSCALE:GREGORIAN
METHOD:PUBLISH
X-ORIGINAL-URL:https://barkeradoptionfoundation.org
X-WR-CALDESC:Events for The Barker Adoption Foundation
REFRESH-INTERVAL;VALUE=DURATION:PT1H
X-Robots-Tag:noindex
X-PUBLISHED-TTL:PT1H
BEGIN:VTIMEZONE
TZID:America/New_York
BEGIN:DAYLIGHT
TZOFFSETFROM:-0500
TZOFFSETTO:-0400
TZNAME:EDT
DTSTART:20240310T070000
END:DAYLIGHT
BEGIN:STANDARD
TZOFFSETFROM:-0400
TZOFFSETTO:-0500
TZNAME:EST
DTSTART:20241103T060000
END:STANDARD
BEGIN:DAYLIGHT
TZOFFSETFROM:-0500
TZOFFSETTO:-0400
TZNAME:EDT
DTSTART:20250309T070000
END:DAYLIGHT
BEGIN:STANDARD
TZOFFSETFROM:-0400
TZOFFSETTO:-0500
TZNAME:EST
DTSTART:20251102T060000
END:STANDARD
BEGIN:DAYLIGHT
TZOFFSETFROM:-0500
TZOFFSETTO:-0400
TZNAME:EDT
DTSTART:20260308T070000
END:DAYLIGHT
BEGIN:STANDARD
TZOFFSETFROM:-0400
TZOFFSETTO:-0500
TZNAME:EST
DTSTART:20261101T060000
END:STANDARD
END:VTIMEZONE
BEGIN:VEVENT
DTSTART;TZID=America/New_York:20251006T183000
DTEND;TZID=America/New_York:20251006T203000
DTSTAMP:20260421T230944
CREATED:20250802T022739Z
LAST-MODIFIED:20251111T213201Z
UID:10000338-1759775400-1759782600@barkeradoptionfoundation.org
SUMMARY:General Adoption Information Meeting (October 2025)
DESCRIPTION:Join us for our General Adoption Information Meeting!\nThis meeting will be online. All registrants will receive the login information in a confirmation email at least 24 hours before the scheduled session. We look forward to connecting with you online! \nAgency staff will describe each of our programs: \n\nDomestic Infant Program\nOlder Child Adoption from Foster Care Program – Project Wait No Longer\nDomestic Dual Program\nInternational Program\nPost-Adoption Support and Services\n\nYou will also hear from a family\, who has completed the process speak about their experiences and answer questions. \nLocation: Virtual event\nDate and time: Mon\, Oct 6\, 2025 6:30 PM – 8:30 PM\nOrganizer: Saara McEachnie \, LCSW‑C\, LICSW\, (301) 664-9664\, info@barkerfoundation.org \nRegister Now!
URL:https://barkeradoptionfoundation.org/events-calendar/october-2025-general-adoption-information-meeting/
LOCATION:MD
CATEGORIES:General Adoption Information Meeting,Prospective Parent Domestic Adoption,Prospective Parent International Adoption,Prospective Parent Project Wait No Longer-Older Child Adoption from Foster Care
ATTACH;FMTTYPE=image/png:https://barkeradoptionfoundation.org/wp-content/uploads/2025/07/General-Adoption-Information-Meeting.png
END:VEVENT
END:VCALENDAR