BEGIN:VCALENDAR
VERSION:2.0
PRODID:-//The Barker Adoption Foundation - ECPv6.15.20//NONSGML v1.0//EN
CALSCALE:GREGORIAN
METHOD:PUBLISH
X-WR-CALNAME:The Barker Adoption Foundation
X-ORIGINAL-URL:https://barkeradoptionfoundation.org
X-WR-CALDESC:Events for The Barker Adoption Foundation
REFRESH-INTERVAL;VALUE=DURATION:PT1H
X-Robots-Tag:noindex
X-PUBLISHED-TTL:PT1H
BEGIN:VTIMEZONE
TZID:America/New_York
BEGIN:DAYLIGHT
TZOFFSETFROM:-0500
TZOFFSETTO:-0400
TZNAME:EDT
DTSTART:20240310T070000
END:DAYLIGHT
BEGIN:STANDARD
TZOFFSETFROM:-0400
TZOFFSETTO:-0500
TZNAME:EST
DTSTART:20241103T060000
END:STANDARD
BEGIN:DAYLIGHT
TZOFFSETFROM:-0500
TZOFFSETTO:-0400
TZNAME:EDT
DTSTART:20250309T070000
END:DAYLIGHT
BEGIN:STANDARD
TZOFFSETFROM:-0400
TZOFFSETTO:-0500
TZNAME:EST
DTSTART:20251102T060000
END:STANDARD
BEGIN:DAYLIGHT
TZOFFSETFROM:-0500
TZOFFSETTO:-0400
TZNAME:EDT
DTSTART:20260308T070000
END:DAYLIGHT
BEGIN:STANDARD
TZOFFSETFROM:-0400
TZOFFSETTO:-0500
TZNAME:EST
DTSTART:20261101T060000
END:STANDARD
END:VTIMEZONE
BEGIN:VEVENT
DTSTART;TZID=America/New_York:20251111T190000
DTEND;TZID=America/New_York:20251111T200000
DTSTAMP:20260421T231545
CREATED:20250803T142316Z
LAST-MODIFIED:20250803T142457Z
UID:10000353-1762887600-1762891200@barkeradoptionfoundation.org
SUMMARY:Parents of Adopted Young Adults Monthly Discussion Group (November 2025)
DESCRIPTION:Join us for an evening of discussion and support! This discussion group is targeted to the needs of parents of young adults who are beyond high school age 18+\, and will focus on issues related to young adulthood. The group is facilitated by a Barker staff social worker. \nLocation: Virtual event\nDate and time: Tue\, Nov 11\, 2025 7:00 PM – 8:00 PM\nOrganizer: May Kipnis\, mkipnis@barkeradoptionfoundation.org \nLet Us Know You’ll Be Joining!\nWhile this group is free and open to all adoptive parents regardless of their connection to Barker\, registration is required. \nRegister Now!
URL:https://barkeradoptionfoundation.org/events-calendar/parents-of-adopted-young-adults-monthly-discussion-group-november-2025-2/
LOCATION:MD
CATEGORIES:Adoptive Parent,Support/Discussion Groups
ATTACH;FMTTYPE=image/png:https://barkeradoptionfoundation.org/wp-content/uploads/2025/08/Barker-Events-Parents-of-YonugAdoptedAdults.png
END:VEVENT
BEGIN:VEVENT
DTSTART;TZID=America/New_York:20251112T190000
DTEND;TZID=America/New_York:20251112T201500
DTSTAMP:20260421T231545
CREATED:20250803T141737Z
LAST-MODIFIED:20251116T230355Z
UID:10000350-1762974000-1762978500@barkeradoptionfoundation.org
SUMMARY:PWNL Families Parent Support Group (November 2025)
DESCRIPTION:Barker’s PWNL Families Parent Support Group aims to provide a safe online space to connect with other adoptive parents who share similar experiences and to receive guidance from an adoption-competent counselor and adoptive parent. This group is being provided at no cost and is open to families who have adopted through Project Wait No Longer (PWNL). Connect\, share stories\, and learn together! \nJoin us for an educational and supportive monthly discussion group. During these monthly groups\, our expert facilitator will guide parents in valuable discussions and provide pieces of training that touch on essential concepts\, including: \n\nself-care\nadvocacy\ngrief/loss issues for teens related to adoption\, and\ntrauma-attachment informed supportive strategies to help children and teens through their often challenging behaviors.\n\nBarker’s PWNL Families Parent Support Group aims to provide a safe online space to connect with other adoptive parents who share similar experiences and to receive guidance from an adoption-competent counselor and adoptive parent. This group is being provided at no cost and is open to families who have adopted through Project Wait No Longer (PWNL). Connect\, share stories\, and learn together! \nLocation: Virtual event\nDate and time: Wed\, Nov 12\, 2025 7:00 PM – 8:15 PM\nOrganizer: Michelle Valdivia\, mkipnis@barkeradoptionfoundation.org \nWhile this support is free\, registration is required. Space is limited. Please RSVP Today!\nRegister Now!
URL:https://barkeradoptionfoundation.org/events-calendar/pwnl-families-parent-support-group-november-2025/
LOCATION:MD
CATEGORIES:Prospective Parent Project Wait No Longer-Older Child Adoption from Foster Care,Support/Discussion Groups
ATTACH;FMTTYPE=image/png:https://barkeradoptionfoundation.org/wp-content/uploads/2025/11/PWNL-Families-Parent-Discussion-Group.png
END:VEVENT
BEGIN:VEVENT
DTSTART;TZID=America/New_York:20251116T093000
DTEND;TZID=America/New_York:20251116T110000
DTSTAMP:20260421T231545
CREATED:20250803T144627Z
LAST-MODIFIED:20260227T023500Z
UID:10000362-1763285400-1763290800@barkeradoptionfoundation.org
SUMMARY:Sundays at Barker: Meet-Up for Parents with Young Children (Infant to 6) (November 2025)
DESCRIPTION:Sundays at Barker is a special monthly gathering for adoptive parents and their children (infants to age 6). It’s a chance to enjoy playful activities\, build connections with other families\, and feel supported by the Barker community. \nThis free program is open to all adoptive families—no prior connection with Barker is needed. \nPlease feel free to share this event with friends or family who may benefit from attending. \nLocation: The Barker Adoption Foundation\, 7979 Old Georgetown Rd\, 1st floor\, Bethesda\, MD 20814\nDate and time: Sun\, Nov 16\, 2025 9:30 AM – 11:00 AM\nOrganizer: Cynthia Cubbage\, ccubbage@barkeradoptionfoundation.org \nRegister Now!
URL:https://barkeradoptionfoundation.org/events-calendar/sundays-at-barker-meet-up-for-parents-with-young-children-infant-to-6-november-2025-2/
LOCATION:Barker Adoption Foundation\, 7979 Old Georgetown Road\, Bethesda\, MD\, 20814\, United States
CATEGORIES:Adoptive Parent,Events for Adoptive Youth,Sundays at Barker,Support/Discussion Groups
ATTACH;FMTTYPE=image/png:https://barkeradoptionfoundation.org/wp-content/uploads/2026/02/Sundays-at-Barker-2026-scaled.png
END:VEVENT
END:VCALENDAR