BEGIN:VCALENDAR
VERSION:2.0
PRODID:-//The Barker Adoption Foundation - ECPv6.15.20//NONSGML v1.0//EN
CALSCALE:GREGORIAN
METHOD:PUBLISH
X-ORIGINAL-URL:https://barkeradoptionfoundation.org
X-WR-CALDESC:Events for The Barker Adoption Foundation
REFRESH-INTERVAL;VALUE=DURATION:PT1H
X-Robots-Tag:noindex
X-PUBLISHED-TTL:PT1H
BEGIN:VTIMEZONE
TZID:America/New_York
BEGIN:DAYLIGHT
TZOFFSETFROM:-0500
TZOFFSETTO:-0400
TZNAME:EDT
DTSTART:20250309T070000
END:DAYLIGHT
BEGIN:STANDARD
TZOFFSETFROM:-0400
TZOFFSETTO:-0500
TZNAME:EST
DTSTART:20251102T060000
END:STANDARD
BEGIN:DAYLIGHT
TZOFFSETFROM:-0500
TZOFFSETTO:-0400
TZNAME:EDT
DTSTART:20260308T070000
END:DAYLIGHT
BEGIN:STANDARD
TZOFFSETFROM:-0400
TZOFFSETTO:-0500
TZNAME:EST
DTSTART:20261101T060000
END:STANDARD
BEGIN:DAYLIGHT
TZOFFSETFROM:-0500
TZOFFSETTO:-0400
TZNAME:EDT
DTSTART:20270314T070000
END:DAYLIGHT
BEGIN:STANDARD
TZOFFSETFROM:-0400
TZOFFSETTO:-0500
TZNAME:EST
DTSTART:20271107T060000
END:STANDARD
END:VTIMEZONE
BEGIN:VEVENT
DTSTART;TZID=America/New_York:20260202T183000
DTEND;TZID=America/New_York:20260202T203000
DTSTAMP:20260421T182550
CREATED:20251110T192448Z
LAST-MODIFIED:20260130T184523Z
UID:10000387-1770057000-1770064200@barkeradoptionfoundation.org
SUMMARY:General Adoption Information Meeting (February)
DESCRIPTION:Exploring adoption? This is the right place to start. Join us for a free\, virtual General Adoption Information Meeting.  \nAgency staff will describe each of our programs: \n\n Domestic Infant Program \nOlder Child Adoption from Foster Care Program (Project Wait No Longer) \nDomestic Dual Program \nInternational Program \nPost-Adoption Support and Services \n\nYou will also hear from a family\, who has completed the process speak about their experiences and answer questions. \nLocation: Virtual event \nDate and time: Mon\, Feb 2\, 2026 6:30 PM – 8:30 PM \nRegister Now!
URL:https://barkeradoptionfoundation.org/events-calendar/general-adoption-information-meeting-february/
LOCATION:MD
CATEGORIES:General Adoption Information Meeting,Prospective Parent Domestic Adoption,Prospective Parent International Adoption,Prospective Parent Project Wait No Longer-Older Child Adoption from Foster Care
ATTACH;FMTTYPE=image/png:https://barkeradoptionfoundation.org/wp-content/uploads/2025/11/General-Adoption-Meeting.png
END:VEVENT
BEGIN:VEVENT
DTSTART;TZID=America/New_York:20260207T100000
DTEND;TZID=America/New_York:20260207T130000
DTSTAMP:20260421T182550
CREATED:20251224T163635Z
LAST-MODIFIED:20260207T025902Z
UID:10000429-1770458400-1770469200@barkeradoptionfoundation.org
SUMMARY:2026 Barker S.T.A.R.S
DESCRIPTION:BARKER S.T.A.R.S. parent and kids workshops will help provide you and your child with the skills\, language\, and confidence on how your unique family can tackle uncomfortable/invasive questions and comments about adoption. It is also a great opportunity for adopted kids to meet others who are adopted. Adopted children in grades 2-5th grade to have the chance to talk and process their feelings about adoption in a safe\, age-appropriate way. \nLocation: The Barker Adoption Foundation\, 7979 Old Georgetown Rd\, 1st floor\, Bethesda\, MD 20814 \nDate and time: Sat\, Feb 7\, 2026 10:00 AM – 1:00 PM \nOrganizer: Cynthia Cubbage\, (301) 664-9664\, info@barkerfoundation.org \nRegister Now!
URL:https://barkeradoptionfoundation.org/events-calendar/2026-barker-s-t-a-r-s/
LOCATION:Barker Adoption Foundation\, 7979 Old Georgetown Road\, Bethesda\, MD\, 20814\, United States
CATEGORIES:Adoptive Parent,Child or Teen Adoptee,Educational Workshops,Events for Adoptive Youth,Special Events,Support/Discussion Groups
ATTACH;FMTTYPE=image/png:https://barkeradoptionfoundation.org/wp-content/uploads/2026/02/Barker-S.T.A.R.S.-600-x-300-px.png
ORGANIZER;CN="Barker Adoption Foundation":MAILTO:info@barkeradoptionfoundation.org
END:VEVENT
END:VCALENDAR