BEGIN:VCALENDAR
VERSION:2.0
PRODID:-//The Barker Adoption Foundation - ECPv6.15.20//NONSGML v1.0//EN
CALSCALE:GREGORIAN
METHOD:PUBLISH
X-ORIGINAL-URL:https://barkeradoptionfoundation.org
X-WR-CALDESC:Events for The Barker Adoption Foundation
REFRESH-INTERVAL;VALUE=DURATION:PT1H
X-Robots-Tag:noindex
X-PUBLISHED-TTL:PT1H
BEGIN:VTIMEZONE
TZID:America/New_York
BEGIN:DAYLIGHT
TZOFFSETFROM:-0500
TZOFFSETTO:-0400
TZNAME:EDT
DTSTART:20250309T070000
END:DAYLIGHT
BEGIN:STANDARD
TZOFFSETFROM:-0400
TZOFFSETTO:-0500
TZNAME:EST
DTSTART:20251102T060000
END:STANDARD
BEGIN:DAYLIGHT
TZOFFSETFROM:-0500
TZOFFSETTO:-0400
TZNAME:EDT
DTSTART:20260308T070000
END:DAYLIGHT
BEGIN:STANDARD
TZOFFSETFROM:-0400
TZOFFSETTO:-0500
TZNAME:EST
DTSTART:20261101T060000
END:STANDARD
BEGIN:DAYLIGHT
TZOFFSETFROM:-0500
TZOFFSETTO:-0400
TZNAME:EDT
DTSTART:20270314T070000
END:DAYLIGHT
BEGIN:STANDARD
TZOFFSETFROM:-0400
TZOFFSETTO:-0500
TZNAME:EST
DTSTART:20271107T060000
END:STANDARD
END:VTIMEZONE
BEGIN:VEVENT
DTSTART;TZID=America/New_York:20260210T190000
DTEND;TZID=America/New_York:20260210T203000
DTSTAMP:20260421T184319
CREATED:20260121T213416Z
LAST-MODIFIED:20260121T213547Z
UID:10000479-1770750000-1770755400@barkeradoptionfoundation.org
SUMMARY:Parents of Adopted Young Adults Monthly Discussion Group (February 2026)
DESCRIPTION:Join us for an evening of discussion and support! This discussion group is targeted to the needs of parents of young adults who are beyond high school age 18+ and will focus on issues related to young adulthood. The group is facilitated by a Barker staff social worker. \nLocation: Virtual event \nDate and time: Tue\, Feb 10\, 2026 7:00 PM – 8:30 PM \nOrganizer: Elana Lindner\, elindner@barkerfoundation.org \nRegister Now!
URL:https://barkeradoptionfoundation.org/events-calendar/parents-of-adopted-young-adults-monthly-discussion-group-february-2026/
LOCATION:MD
CATEGORIES:Adoptive Parent,Support/Discussion Groups
ATTACH;FMTTYPE=image/png:https://barkeradoptionfoundation.org/wp-content/uploads/2025/08/Barker-Events-Parents-of-YonugAdoptedAdults.png
END:VEVENT
BEGIN:VEVENT
DTSTART;TZID=America/New_York:20260211T190000
DTEND;TZID=America/New_York:20260211T201500
DTSTAMP:20260421T184319
CREATED:20251116T223603Z
LAST-MODIFIED:20260305T041920Z
UID:10000414-1770836400-1770840900@barkeradoptionfoundation.org
SUMMARY:PWNL Families Parent Support Group (Feb)
DESCRIPTION:Barker’s PWNL Families Parent Support Group aims to provide a safe online space to connect with other adoptive parents who share similar experiences and to receive guidance from an adoption-competent counselor and adoptive parent. This group is being provided at no cost and is open to families who have adopted through Project Wait No Longer (PWNL). Connect\, share stories\, and learn together! \nJoin us for an educational and supportive monthly discussion group. During these monthly groups\, our expert facilitator will guide parents in valuable discussions and provide pieces of training that touch on essential concepts\, including: \n\nself-care\nadvocacy\ngrief/loss issues for teens related to adoption\, and\ntrauma-attachment informed supportive strategies to help children and teens through their often challenging behaviors.\n\nBarker’s PWNL Families Parent Support Group aims to provide a safe online space to connect with other adoptive parents who share similar experiences and to receive guidance from an adoption-competent counselor and adoptive parent. This group is being provided at no cost and is open to families who have adopted through Project Wait No Longer (PWNL). Connect\, share stories\, and learn together! \nLocation: Virtual event \nDate and time: Wed\, Feb 11\, 2026 7:00 PM – 8:15 PM \nOrganizer: Michelle Valdivia\, mvaldivia@barkerfoundation.org
URL:https://barkeradoptionfoundation.org/events-calendar/pwnl-families-parent-support-group-feb-2026/
LOCATION:MD
CATEGORIES:Prospective Parent Project Wait No Longer-Older Child Adoption from Foster Care,Support/Discussion Groups
ATTACH;FMTTYPE=image/png:https://barkeradoptionfoundation.org/wp-content/uploads/2025/11/PWNL-Families-Parent-Discussion-Group.png
END:VEVENT
BEGIN:VEVENT
DTSTART;TZID=America/New_York:20260212T190000
DTEND;TZID=America/New_York:20260212T203000
DTSTAMP:20260421T184319
CREATED:20260119T201155Z
LAST-MODIFIED:20260119T201155Z
UID:10000454-1770922800-1770928200@barkeradoptionfoundation.org
SUMMARY:Birth Parent Monthly Discussion Group (February 2026)
DESCRIPTION:This Group is open to anyone who has placed a child for adoption or is considering making an adoption plan. The purpose of the group is to provide a place where birth parents can talk about their experiences\, and share their feelings and thoughts with others who have made the same decision. The group is facilitated by a Barker staff social worker. \nLocation: Virtual event \nDate and time: Thu\, Feb 12\, 2026 7:00 PM – 8:30 PM \nOrganizer: Elana Lindner\, (301) 664-9664\, elindner@barkerfoundation.org \nRegister Now!
URL:https://barkeradoptionfoundation.org/events-calendar/birth-parent-monthly-discussion-group-february-2026-2/
LOCATION:MD
CATEGORIES:Birth Parent,Support/Discussion Groups
ATTACH;FMTTYPE=image/png:https://barkeradoptionfoundation.org/wp-content/uploads/2025/08/Barker-Event-Birth-Parent-DiscussionGroup.png
END:VEVENT
END:VCALENDAR