BEGIN:VCALENDAR
VERSION:2.0
PRODID:-//The Barker Adoption Foundation - ECPv6.15.20//NONSGML v1.0//EN
CALSCALE:GREGORIAN
METHOD:PUBLISH
X-ORIGINAL-URL:https://barkeradoptionfoundation.org
X-WR-CALDESC:Events for The Barker Adoption Foundation
REFRESH-INTERVAL;VALUE=DURATION:PT1H
X-Robots-Tag:noindex
X-PUBLISHED-TTL:PT1H
BEGIN:VTIMEZONE
TZID:America/New_York
BEGIN:DAYLIGHT
TZOFFSETFROM:-0500
TZOFFSETTO:-0400
TZNAME:EDT
DTSTART:20250309T070000
END:DAYLIGHT
BEGIN:STANDARD
TZOFFSETFROM:-0400
TZOFFSETTO:-0500
TZNAME:EST
DTSTART:20251102T060000
END:STANDARD
BEGIN:DAYLIGHT
TZOFFSETFROM:-0500
TZOFFSETTO:-0400
TZNAME:EDT
DTSTART:20260308T070000
END:DAYLIGHT
BEGIN:STANDARD
TZOFFSETFROM:-0400
TZOFFSETTO:-0500
TZNAME:EST
DTSTART:20261101T060000
END:STANDARD
BEGIN:DAYLIGHT
TZOFFSETFROM:-0500
TZOFFSETTO:-0400
TZNAME:EDT
DTSTART:20270314T070000
END:DAYLIGHT
BEGIN:STANDARD
TZOFFSETFROM:-0400
TZOFFSETTO:-0500
TZNAME:EST
DTSTART:20271107T060000
END:STANDARD
END:VTIMEZONE
BEGIN:VEVENT
DTSTART;VALUE=DATE:20260401
DTEND;VALUE=DATE:20260402
DTSTAMP:20260421T170049
CREATED:20260311T184151Z
LAST-MODIFIED:20260311T190826Z
UID:10000483-1775001600-1775087999@barkeradoptionfoundation.org
SUMMARY:Domestic Infant/International Waiting Parent Meetings (April)
DESCRIPTION:This group is open to Barker approved prospective adoptive parents.  Current topics related to domestic and international adoption are discussed. \nTo learn more or register\, please contact Caitlin Alfaro – calfaro@barkerfoundation.org
URL:https://barkeradoptionfoundation.org/events-calendar/domestic-infant-international-waiting-parent-meetings/
LOCATION:Barker Adoption Foundation\, 7979 Old Georgetown Road\, Bethesda\, MD\, 20814\, United States
CATEGORIES:Prospective Parent Domestic Adoption,Prospective Parent International Adoption,Support/Discussion Groups
ATTACH;FMTTYPE=image/jpeg:https://barkeradoptionfoundation.org/wp-content/uploads/2025/12/Barker-Adoption-Foundation-homepage.jpg
END:VEVENT
BEGIN:VEVENT
DTSTART;TZID=America/New_York:20260404T090000
DTEND;TZID=America/New_York:20260404T110000
DTSTAMP:20260421T170049
CREATED:20251110T194124Z
LAST-MODIFIED:20251110T194124Z
UID:10000391-1775293200-1775300400@barkeradoptionfoundation.org
SUMMARY:General Adoption Information Meeting (April)
DESCRIPTION:Exploring adoption? This is the right place to start. Join us for a free\, virtual General Adoption Information Meeting.  \nAgency staff will describe each of our programs: \n Domestic Infant Program  \n\nOlder Child Adoption from Foster Care Program (Project Wait No Longer) \nDomestic Dual Program \nInternational Program \nPost-Adoption Support and Services \n\nYou will also hear from a family\, who has completed the process speak about their experiences and answer questions. \nLocation: Virtual event \nDate and time: Sat\, Apr 4\, 2026 9:00 AM – 11:00 AM \nRegister Now!
URL:https://barkeradoptionfoundation.org/events-calendar/general-adoption-information-meeting-april/
LOCATION:MD
CATEGORIES:General Adoption Information Meeting,Prospective Parent Domestic Adoption,Prospective Parent International Adoption,Prospective Parent Project Wait No Longer-Older Child Adoption from Foster Care
ATTACH;FMTTYPE=image/png:https://barkeradoptionfoundation.org/wp-content/uploads/2025/11/General-Adoption-Meeting.png
END:VEVENT
END:VCALENDAR