BEGIN:VCALENDAR
VERSION:2.0
PRODID:-//The Barker Adoption Foundation - ECPv6.15.20//NONSGML v1.0//EN
CALSCALE:GREGORIAN
METHOD:PUBLISH
X-WR-CALNAME:The Barker Adoption Foundation
X-ORIGINAL-URL:https://barkeradoptionfoundation.org
X-WR-CALDESC:Events for The Barker Adoption Foundation
REFRESH-INTERVAL;VALUE=DURATION:PT1H
X-Robots-Tag:noindex
X-PUBLISHED-TTL:PT1H
BEGIN:VTIMEZONE
TZID:America/New_York
BEGIN:DAYLIGHT
TZOFFSETFROM:-0500
TZOFFSETTO:-0400
TZNAME:EDT
DTSTART:20250309T070000
END:DAYLIGHT
BEGIN:STANDARD
TZOFFSETFROM:-0400
TZOFFSETTO:-0500
TZNAME:EST
DTSTART:20251102T060000
END:STANDARD
BEGIN:DAYLIGHT
TZOFFSETFROM:-0500
TZOFFSETTO:-0400
TZNAME:EDT
DTSTART:20260308T070000
END:DAYLIGHT
BEGIN:STANDARD
TZOFFSETFROM:-0400
TZOFFSETTO:-0500
TZNAME:EST
DTSTART:20261101T060000
END:STANDARD
BEGIN:DAYLIGHT
TZOFFSETFROM:-0500
TZOFFSETTO:-0400
TZNAME:EDT
DTSTART:20270314T070000
END:DAYLIGHT
BEGIN:STANDARD
TZOFFSETFROM:-0400
TZOFFSETTO:-0500
TZNAME:EST
DTSTART:20271107T060000
END:STANDARD
END:VTIMEZONE
BEGIN:VEVENT
DTSTART;TZID=America/New_York:20260414T190000
DTEND;TZID=America/New_York:20260414T203000
DTSTAMP:20260421T143034
CREATED:20260119T204848Z
LAST-MODIFIED:20260119T204848Z
UID:10000467-1776193200-1776198600@barkeradoptionfoundation.org
SUMMARY:Parents of Adopted Young Adults Monthly Discussion Group (April 2026)
DESCRIPTION:Join us for an evening of discussion and support! This discussion group is targeted to the needs of parents of young adults who are beyond high school age 18+ and will focus on issues related to young adulthood. The group is facilitated by a Barker staff social worker. \nLocation: Virtual event \nDate and time: Tue\, Apr 14\, 2026 7:00 PM – 8:30 PM \nOrganizer: Elana Lindner\, elindner@barkerfoundation.org \nRegister Now!
URL:https://barkeradoptionfoundation.org/events-calendar/parents-of-adopted-young-adults-monthly-discussion-group-april-2026-2/
LOCATION:MD
CATEGORIES:Adoptive Parent,Support/Discussion Groups
ATTACH;FMTTYPE=image/png:https://barkeradoptionfoundation.org/wp-content/uploads/2025/08/Barker-Events-Parents-of-YonugAdoptedAdults.png
END:VEVENT
BEGIN:VEVENT
DTSTART;TZID=America/New_York:20260415T190000
DTEND;TZID=America/New_York:20260415T203000
DTSTAMP:20260421T143034
CREATED:20260119T201650Z
LAST-MODIFIED:20260407T143255Z
UID:10000456-1776279600-1776285000@barkeradoptionfoundation.org
SUMMARY:Birth Parent Monthly Discussion Group (April 2026)
DESCRIPTION:This Group is open to anyone who has placed a child for adoption or is considering making an adoption plan. The purpose of the group is to provide a place where birth parents can talk about their experiences\, and share their feelings and thoughts with others who have made the same decision. The group is facilitated by a Barker staff social worker. \nLocation: Virtual event \nDate and time: Wed\, Apr 15\, 2026 7:00 PM – 8:30 PM \nOrganizer: Elana Lindner\, (301) 664-9664\, elindner@barkerfoundation.org \nRegister Now!
URL:https://barkeradoptionfoundation.org/events-calendar/birth-parent-monthly-discussion-group-april-2026-2/
LOCATION:MD
CATEGORIES:Birth Parent,Support/Discussion Groups
ATTACH;FMTTYPE=image/png:https://barkeradoptionfoundation.org/wp-content/uploads/2025/08/Barker-Event-Birth-Parent-DiscussionGroup.png
END:VEVENT
BEGIN:VEVENT
DTSTART;TZID=America/New_York:20260415T193000
DTEND;TZID=America/New_York:20260415T210000
DTSTAMP:20260421T143034
CREATED:20251110T221718Z
LAST-MODIFIED:20251224T153943Z
UID:10000397-1776281400-1776286800@barkeradoptionfoundation.org
SUMMARY:Adult Adoptee Discussion Group (April 2026)
DESCRIPTION:This discussion group is open to adoptees 18 years of age and older. The purpose of the group is to give adoptees an opportunity to discuss their feelings\, concerns\, and questions about being adopted. \nLocation: Virtual event \nDate and time: Wed\, Apr 15\, 2026 7:30 PM – 9:00 PM \nOrganizer: Victoria Alves\, (301) 664-9664\, valves@barkerfoundation.org \nRegister Now!
URL:https://barkeradoptionfoundation.org/events-calendar/adult-adoptee-discussion-group-april-2026/
LOCATION:MD
CATEGORIES:Adult Adoptee,Support/Discussion Groups
ATTACH;FMTTYPE=image/png:https://barkeradoptionfoundation.org/wp-content/uploads/2025/08/Barker-Event-Adult-Adoptee.png
END:VEVENT
BEGIN:VEVENT
DTSTART;TZID=America/New_York:20260418T100000
DTEND;TZID=America/New_York:20260418T163000
DTSTAMP:20260421T143034
CREATED:20251110T194639Z
LAST-MODIFIED:20251110T194703Z
UID:10000393-1776506400-1776529800@barkeradoptionfoundation.org
SUMMARY:Considerations in Transracial Adoption Training
DESCRIPTION:During this workshop\, pre-adoptive parents considering transracial adoption or parents already parenting transracially will be provided with the necessary tools to begin thinking about the obligations they have\, as parents\, to their transracially adopted children. \nLocation: Virtual event \nDate and time: Sat\, Apr 18\, 2026 10:00 AM – 4:30 PM \nOrganizer: Virginia Downes\, (301) 664-9664\, vdownes@barkerfoundation.org \nRegister Now!
URL:https://barkeradoptionfoundation.org/events-calendar/considerations-in-transracial-adoption-training/
LOCATION:MD
CATEGORIES:Prospective Adoptive Parent Training,Prospective Parent Domestic Adoption,Prospective Parent International Adoption,Prospective Parent Project Wait No Longer-Older Child Adoption from Foster Care
ATTACH;FMTTYPE=image/png:https://barkeradoptionfoundation.org/wp-content/uploads/2025/11/Barker-Adoption-Foundation-Logo-800.png
END:VEVENT
BEGIN:VEVENT
DTSTART;TZID=America/New_York:20260419T093000
DTEND;TZID=America/New_York:20260419T110000
DTSTAMP:20260421T143034
CREATED:20251202T004054Z
LAST-MODIFIED:20260227T023429Z
UID:10000424-1776591000-1776596400@barkeradoptionfoundation.org
SUMMARY:Sundays at Barker: Meet-Up for Parents with Young Children (Infant to 6) (April 2026)
DESCRIPTION:Sundays at Barker is a special monthly gathering for adoptive parents and their children (infants to age 6). It’s a chance to enjoy playful activities\, build connections with other families\, and feel supported by the Barker community. This free program is open to all adoptive families—no prior connection with Barker is needed. Please feel free to share this event with friends or family who may benefit from attending. \nLocation: The Barker Adoption Foundation\, 7979 Old Georgetown Rd\, 1st floor\, Bethesda\, MD 20814 \nDate and time: Sun\, Apr 19\, 2026 9:30 AM – 11:00 AM \nOrganizer: Cynthia Cubbage\, ccubbage@barkerfoundation.org \nRegister Now!
URL:https://barkeradoptionfoundation.org/events-calendar/sundays-at-barker-meet-up-for-parents-with-young-children-infant-to-6-april-2026/
LOCATION:Barker Adoption Foundation\, 7979 Old Georgetown Road\, Bethesda\, MD\, 20814\, United States
CATEGORIES:Adoptive Parent,Events for Adoptive Youth,Sundays at Barker,Support/Discussion Groups
ATTACH;FMTTYPE=image/png:https://barkeradoptionfoundation.org/wp-content/uploads/2026/02/Sundays-at-Barker-2026-scaled.png
END:VEVENT
END:VCALENDAR