BEGIN:VCALENDAR
VERSION:2.0
PRODID:-//The Barker Adoption Foundation - ECPv6.15.20//NONSGML v1.0//EN
CALSCALE:GREGORIAN
METHOD:PUBLISH
X-WR-CALNAME:The Barker Adoption Foundation
X-ORIGINAL-URL:https://barkeradoptionfoundation.org
X-WR-CALDESC:Events for The Barker Adoption Foundation
REFRESH-INTERVAL;VALUE=DURATION:PT1H
X-Robots-Tag:noindex
X-PUBLISHED-TTL:PT1H
BEGIN:VTIMEZONE
TZID:America/New_York
BEGIN:DAYLIGHT
TZOFFSETFROM:-0500
TZOFFSETTO:-0400
TZNAME:EDT
DTSTART:20250309T070000
END:DAYLIGHT
BEGIN:STANDARD
TZOFFSETFROM:-0400
TZOFFSETTO:-0500
TZNAME:EST
DTSTART:20251102T060000
END:STANDARD
BEGIN:DAYLIGHT
TZOFFSETFROM:-0500
TZOFFSETTO:-0400
TZNAME:EDT
DTSTART:20260308T070000
END:DAYLIGHT
BEGIN:STANDARD
TZOFFSETFROM:-0400
TZOFFSETTO:-0500
TZNAME:EST
DTSTART:20261101T060000
END:STANDARD
BEGIN:DAYLIGHT
TZOFFSETFROM:-0500
TZOFFSETTO:-0400
TZNAME:EDT
DTSTART:20270314T070000
END:DAYLIGHT
BEGIN:STANDARD
TZOFFSETFROM:-0400
TZOFFSETTO:-0500
TZNAME:EST
DTSTART:20271107T060000
END:STANDARD
END:VTIMEZONE
BEGIN:VEVENT
DTSTART;TZID=America/New_York:20260609T190000
DTEND;TZID=America/New_York:20260609T203000
DTSTAMP:20260421T182411
CREATED:20260119T205340Z
LAST-MODIFIED:20260119T205719Z
UID:10000469-1781031600-1781037000@barkeradoptionfoundation.org
SUMMARY:Parents of Adopted Young Adults Monthly Discussion Group (June 2026)
DESCRIPTION:Join us for an evening of discussion and support! This discussion group is targeted to the needs of parents of young adults who are beyond high school age 18+ and will focus on issues related to young adulthood. The group is facilitated by a Barker staff social worker. \nLocation: Virtual event \nDate and time: Tue\, Jun 9\, 2026 7:00 PM – 8:30 PM \nOrganizer: Elana Lindner\, elindner@barkerfoundation.org \nRegister Now!
URL:https://barkeradoptionfoundation.org/events-calendar/parents-of-adopted-young-adults-monthly-discussion-group-june-2026-2/
LOCATION:MD
CATEGORIES:Adoptive Parent,Support/Discussion Groups
ATTACH;FMTTYPE=image/png:https://barkeradoptionfoundation.org/wp-content/uploads/2025/08/Barker-Events-Parents-of-YonugAdoptedAdults.png
END:VEVENT
BEGIN:VEVENT
DTSTART;VALUE=DATE:20260610
DTEND;VALUE=DATE:20260611
DTSTAMP:20260421T182411
CREATED:20260311T184325Z
LAST-MODIFIED:20260311T190814Z
UID:10000484-1781049600-1781135999@barkeradoptionfoundation.org
SUMMARY:Domestic Infant/International Waiting Parent Meetings (June)
DESCRIPTION:This group is open to Barker approved prospective adoptive parents.  Current topics related to domestic and international adoption are discussed. \nTo learn more or register\, please contact Caitlin Alfaro – calfaro@barkerfoundation.org
URL:https://barkeradoptionfoundation.org/events-calendar/domestic-infant-international-waiting-parent-meetings-june-2026/
LOCATION:Barker Adoption Foundation\, 7979 Old Georgetown Road\, Bethesda\, MD\, 20814\, United States
CATEGORIES:Prospective Parent Domestic Adoption,Prospective Parent International Adoption,Support/Discussion Groups
ATTACH;FMTTYPE=image/jpeg:https://barkeradoptionfoundation.org/wp-content/uploads/2025/12/Barker-Adoption-Foundation-homepage.jpg
END:VEVENT
BEGIN:VEVENT
DTSTART;TZID=America/New_York:20260610T190000
DTEND;TZID=America/New_York:20260610T201500
DTSTAMP:20260421T182411
CREATED:20251116T224528Z
LAST-MODIFIED:20260406T001533Z
UID:10000416-1781118000-1781122500@barkeradoptionfoundation.org
SUMMARY:PWNL/Older Child Discussion Group (Jun)
DESCRIPTION:This group is open to any parent that has adopted a child ages 5 and up\, or who has been matched/placed through Project Wait No Longer (PWNL). \nTo learn more or register\, please contact Michelle Valdivia – mvaldivia@barkerfoundation.org
URL:https://barkeradoptionfoundation.org/events-calendar/pwnl-families-parent-support-group-jun-2026/
LOCATION:MD
CATEGORIES:Adoptive Parent,Support/Discussion Groups
ATTACH;FMTTYPE=image/png:https://barkeradoptionfoundation.org/wp-content/uploads/2025/11/PWNL-Families-Parent-Discussion-Group.png
END:VEVENT
BEGIN:VEVENT
DTSTART;TZID=America/New_York:20260611T190000
DTEND;TZID=America/New_York:20260611T203000
DTSTAMP:20260421T182411
CREATED:20260119T202135Z
LAST-MODIFIED:20260119T202135Z
UID:10000458-1781204400-1781209800@barkeradoptionfoundation.org
SUMMARY:Birth Parent Monthly Discussion Group (June 2026)
DESCRIPTION:This Group is open to anyone who has placed a child for adoption or is considering making an adoption plan. The purpose of the group is to provide a place where birth parents can talk about their experiences\, and share their feelings and thoughts with others who have made the same decision. The group is facilitated by a Barker staff social worker. \nLocation: Virtual event \nDate and time: Thu\, Jun 11\, 2026 7:00 PM – 8:30 PM \nOrganizer: Elana Lindner\, (301) 664-9664\, elindner@barkerfoundation.org \nRegister Now!
URL:https://barkeradoptionfoundation.org/events-calendar/birth-parent-monthly-discussion-group-june-2026-2/
LOCATION:MD
CATEGORIES:Birth Parent,Support/Discussion Groups
ATTACH;FMTTYPE=image/png:https://barkeradoptionfoundation.org/wp-content/uploads/2025/08/Barker-Event-Birth-Parent-DiscussionGroup.png
END:VEVENT
BEGIN:VEVENT
DTSTART;TZID=America/New_York:20260613T100000
DTEND;TZID=America/New_York:20260613T163000
DTSTAMP:20260421T182411
CREATED:20260117T203931Z
LAST-MODIFIED:20260117T203931Z
UID:10000435-1781344800-1781368200@barkeradoptionfoundation.org
SUMMARY:Considerations in Transracial Adoption Training
DESCRIPTION:During this workshop\, pre-adoptive parents considering transracial adoption or parents already parenting transracially will be provided with the necessary tools to begin thinking about the obligations they have\, as parents\, to their transracially adopted children. \nLocation: Virtual event \nDate and time: Sat\, Jun 13\, 2026 10:00 AM – 4:30 PM \nOrganizer: Virginia Downes\, (301) 664-9664\, vdownes@barkerfoundation.org \nRegister Now!
URL:https://barkeradoptionfoundation.org/events-calendar/considerations-in-transracial-adoption-training-2/
LOCATION:MD
CATEGORIES:Prospective Adoptive Parent Training,Prospective Parent Domestic Adoption,Prospective Parent International Adoption,Prospective Parent Project Wait No Longer-Older Child Adoption from Foster Care
ATTACH;FMTTYPE=image/png:https://barkeradoptionfoundation.org/wp-content/uploads/2025/11/Barker-Adoption-Foundation-Logo-800.png
END:VEVENT
BEGIN:VEVENT
DTSTART;TZID=America/New_York:20260614T093000
DTEND;TZID=America/New_York:20260614T110000
DTSTAMP:20260421T182411
CREATED:20251202T003646Z
LAST-MODIFIED:20260227T023431Z
UID:10000423-1781429400-1781434800@barkeradoptionfoundation.org
SUMMARY:Sundays at Barker: Meet-Up for Parents with Young Children (Infant to 6) (June 2026)
DESCRIPTION:Sundays at Barker is a special monthly gathering for adoptive parents and their children (infants to age 6). It’s a chance to enjoy playful activities\, build connections with other families\, and feel supported by the Barker community. This free program is open to all adoptive families—no prior connection with Barker is needed. Please feel free to share this event with friends or family who may benefit from attending. \nLocation: The Barker Adoption Foundation\, 7979 Old Georgetown Rd\, 1st floor\, Bethesda\, MD 20814 \nDate and time: Sun\, Jun 14\, 2026 9:30 AM – 11:00 AM \nOrganizer: Cynthia Cubbage\, ccubbage@barkerfoundation.org \nRegister Now!
URL:https://barkeradoptionfoundation.org/events-calendar/sundays-at-barker-meet-up-for-parents-with-young-children-infant-to-6-june-2026-2/
LOCATION:Barker Adoption Foundation\, 7979 Old Georgetown Road\, Bethesda\, MD\, 20814\, United States
CATEGORIES:Adoptive Parent,Events for Adoptive Youth,Sundays at Barker,Support/Discussion Groups
ATTACH;FMTTYPE=image/png:https://barkeradoptionfoundation.org/wp-content/uploads/2026/02/Sundays-at-Barker-2026-scaled.png
END:VEVENT
END:VCALENDAR