BEGIN:VCALENDAR
VERSION:2.0
PRODID:-//The Barker Adoption Foundation - ECPv6.15.20//NONSGML v1.0//EN
CALSCALE:GREGORIAN
METHOD:PUBLISH
X-ORIGINAL-URL:https://barkeradoptionfoundation.org
X-WR-CALDESC:Events for The Barker Adoption Foundation
REFRESH-INTERVAL;VALUE=DURATION:PT1H
X-Robots-Tag:noindex
X-PUBLISHED-TTL:PT1H
BEGIN:VTIMEZONE
TZID:America/New_York
BEGIN:DAYLIGHT
TZOFFSETFROM:-0500
TZOFFSETTO:-0400
TZNAME:EDT
DTSTART:20250309T070000
END:DAYLIGHT
BEGIN:STANDARD
TZOFFSETFROM:-0400
TZOFFSETTO:-0500
TZNAME:EST
DTSTART:20251102T060000
END:STANDARD
BEGIN:DAYLIGHT
TZOFFSETFROM:-0500
TZOFFSETTO:-0400
TZNAME:EDT
DTSTART:20260308T070000
END:DAYLIGHT
BEGIN:STANDARD
TZOFFSETFROM:-0400
TZOFFSETTO:-0500
TZNAME:EST
DTSTART:20261101T060000
END:STANDARD
BEGIN:DAYLIGHT
TZOFFSETFROM:-0500
TZOFFSETTO:-0400
TZNAME:EDT
DTSTART:20270314T070000
END:DAYLIGHT
BEGIN:STANDARD
TZOFFSETFROM:-0400
TZOFFSETTO:-0500
TZNAME:EST
DTSTART:20271107T060000
END:STANDARD
END:VTIMEZONE
BEGIN:VEVENT
DTSTART;TZID=America/New_York:20260803T183000
DTEND;TZID=America/New_York:20260803T203000
DTSTAMP:20260421T205132
CREATED:20260117T204636Z
LAST-MODIFIED:20260117T204636Z
UID:10000437-1785781800-1785789000@barkeradoptionfoundation.org
SUMMARY:General Adoption Information Meeting (August)
DESCRIPTION:Exploring adoption? This is the right place to start. Join us for a free\, virtual General Adoption Information Meeting. Agency staff will describe each of our programs: – Domestic Infant Program – Older Child Adoption from Foster Care Program (Project Wait No Longer) – Domestic Dual Program – International Program – Post-Adoption Support and Services You will also hear from a family\, who has completed the process speak about their experiences and answer questions. \nLocation: Virtual event \nDate and time: Mon\, Aug 3\, 2026 6:30 PM – 8:30 PM \nRegister Now!
URL:https://barkeradoptionfoundation.org/events-calendar/general-adoption-information-meeting-august-2/
LOCATION:MD
CATEGORIES:General Adoption Information Meeting,Prospective Parent Domestic Adoption,Prospective Parent International Adoption,Prospective Parent Project Wait No Longer-Older Child Adoption from Foster Care
ATTACH;FMTTYPE=image/png:https://barkeradoptionfoundation.org/wp-content/uploads/2025/11/General-Adoption-Meeting.png
END:VEVENT
END:VCALENDAR