BEGIN:VCALENDAR
VERSION:2.0
PRODID:-//The Barker Adoption Foundation - ECPv6.15.20//NONSGML v1.0//EN
CALSCALE:GREGORIAN
METHOD:PUBLISH
X-WR-CALNAME:The Barker Adoption Foundation
X-ORIGINAL-URL:https://barkeradoptionfoundation.org
X-WR-CALDESC:Events for The Barker Adoption Foundation
REFRESH-INTERVAL;VALUE=DURATION:PT1H
X-Robots-Tag:noindex
X-PUBLISHED-TTL:PT1H
BEGIN:VTIMEZONE
TZID:America/New_York
BEGIN:DAYLIGHT
TZOFFSETFROM:-0500
TZOFFSETTO:-0400
TZNAME:EDT
DTSTART:20250309T070000
END:DAYLIGHT
BEGIN:STANDARD
TZOFFSETFROM:-0400
TZOFFSETTO:-0500
TZNAME:EST
DTSTART:20251102T060000
END:STANDARD
BEGIN:DAYLIGHT
TZOFFSETFROM:-0500
TZOFFSETTO:-0400
TZNAME:EDT
DTSTART:20260308T070000
END:DAYLIGHT
BEGIN:STANDARD
TZOFFSETFROM:-0400
TZOFFSETTO:-0500
TZNAME:EST
DTSTART:20261101T060000
END:STANDARD
BEGIN:DAYLIGHT
TZOFFSETFROM:-0500
TZOFFSETTO:-0400
TZNAME:EDT
DTSTART:20270314T070000
END:DAYLIGHT
BEGIN:STANDARD
TZOFFSETFROM:-0400
TZOFFSETTO:-0500
TZNAME:EST
DTSTART:20271107T060000
END:STANDARD
END:VTIMEZONE
BEGIN:VEVENT
DTSTART;TZID=America/New_York:20260908T190000
DTEND;TZID=America/New_York:20260908T203000
DTSTAMP:20260421T220553
CREATED:20260119T210018Z
LAST-MODIFIED:20260119T210018Z
UID:10000471-1788894000-1788899400@barkeradoptionfoundation.org
SUMMARY:Parents of Adopted Young Adults Monthly Discussion Group (September 2026)
DESCRIPTION:Join us for an evening of discussion and support! This discussion group is targeted to the needs of parents of young adults who are beyond high school age 18+ and will focus on issues related to young adulthood. The group is facilitated by a Barker staff social worker. \nLocation: Virtual event \nDate and time: Tue\, Sep 8\, 2026 7:00 PM – 8:30 PM \nOrganizer: Elana Lindner\, elindner@barkerfoundation.org \nRegister Now!
URL:https://barkeradoptionfoundation.org/events-calendar/parents-of-adopted-young-adults-monthly-discussion-group-september-2026-2/
LOCATION:MD
CATEGORIES:Adoptive Parent,Support/Discussion Groups
ATTACH;FMTTYPE=image/png:https://barkeradoptionfoundation.org/wp-content/uploads/2025/08/Barker-Events-Parents-of-YonugAdoptedAdults.png
END:VEVENT
BEGIN:VEVENT
DTSTART;TZID=America/New_York:20260909T190000
DTEND;TZID=America/New_York:20260909T201500
DTSTAMP:20260421T220553
CREATED:20251116T225455Z
LAST-MODIFIED:20260406T001518Z
UID:10000419-1788980400-1788984900@barkeradoptionfoundation.org
SUMMARY:PWNL/Older Child Discussion Group (Sep)
DESCRIPTION:This group is open to any parent that has adopted a child ages 5 and up\, or who has been matched/placed through Project Wait No Longer (PWNL). \nTo learn more or register\, please contact Michelle Valdivia – mvaldivia@barkerfoundation.org
URL:https://barkeradoptionfoundation.org/events-calendar/pwnl-families-parent-support-group-sep-2026/
LOCATION:MD
CATEGORIES:Adoptive Parent,Support/Discussion Groups
ATTACH;FMTTYPE=image/png:https://barkeradoptionfoundation.org/wp-content/uploads/2025/11/PWNL-Families-Parent-Discussion-Group.png
END:VEVENT
BEGIN:VEVENT
DTSTART;TZID=America/New_York:20260910T093000
DTEND;TZID=America/New_York:20260910T124500
DTSTAMP:20260421T220553
CREATED:20260312T182233Z
LAST-MODIFIED:20260312T182233Z
UID:10000494-1789032600-1789044300@barkeradoptionfoundation.org
SUMMARY:Exploring Therapeutic Approaches for Adopted Children and Youth
DESCRIPTION:This workshop will provide attendees with a high-level overview of several therapeutic approaches commonly used with adopted children and youth. The training will explore how different models address attachment\, trauma\, emotional regulation\, and relational healing\, with attention to the unique needs of adopted children and their families. The workshop will highlight both potential benefits and important considerations in adoption-related work to support informed and thoughtful clinical decision-making. \nTherapeutic models explored will include: \n\nDyadic Developmental Psychotherapy (DDP)\nTrauma-Focused Cognitive Behavioral Therapy (TF-CBT)\nAttachment\, Regulation\, and Competency Framework (ARC)\nFamily Systems Therapy\, Trust-Based Relational Intervention (TBRI)\nAlert Program\nEye Movement Desensitization and Reprocessing Therapy (EMDR)\nDevelopmental\, Individual-Differences\, and Relationship-Based Floortime Model (DIR)\n\nAbout our presenter:  \nThis training will be provided by the Barker post-adoption therapy team\, led by Cynthia Cubbage\, LCSW-C\, LICSW.  Cynthia brings over 20 years of experience of providing clinical therapy for children and adolescents. She is also an adoptive parent of two children and is deeply passionate about ensuring families receive the clinical support they need to thrive. \nDate: September 10th\, 2026\nTime: 9:30am – 12:45pm\nLocation: Online\nCEU’s: 3 CAT I CEU’s\nCost: $45 \nRegister Now!
URL:https://barkeradoptionfoundation.org/events-calendar/exploring-therapeutic-approaches-for-adopted-children-and-youth/
LOCATION:Barker Adoption Foundation\, 7979 Old Georgetown Road\, Bethesda\, MD\, 20814\, United States
CATEGORIES:Continuing Education Units (CEUs),Professional
ATTACH;FMTTYPE=image/png:https://barkeradoptionfoundation.org/wp-content/uploads/2026/03/Exploring-Therapeutic-Approaches-for-Adopted-Children-Youth.png
END:VEVENT
BEGIN:VEVENT
DTSTART;TZID=America/New_York:20260910T190000
DTEND;TZID=America/New_York:20260910T203000
DTSTAMP:20260421T220553
CREATED:20260119T203027Z
LAST-MODIFIED:20260119T203230Z
UID:10000461-1789066800-1789072200@barkeradoptionfoundation.org
SUMMARY:Birth Parent Monthly Discussion Group (September 2026)
DESCRIPTION:This Group is open to anyone who has placed a child for adoption or is considering making an adoption plan. The purpose of the group is to provide a place where birth parents can talk about their experiences\, and share their feelings and thoughts with others who have made the same decision. The group is facilitated by a Barker staff social worker. \nLocation: Virtual event \nDate and time: Thu\, Sep 10\, 2026 7:00 PM – 8:30 PM \nOrganizer: Elana Lindner\, (301) 664-9664\, elindner@barkerfoundation.org \nRegister Now!
URL:https://barkeradoptionfoundation.org/events-calendar/birth-parent-monthly-discussion-group-september-2026/
LOCATION:MD
CATEGORIES:Birth Parent,Support/Discussion Groups
ATTACH;FMTTYPE=image/png:https://barkeradoptionfoundation.org/wp-content/uploads/2025/08/Barker-Event-Birth-Parent-DiscussionGroup.png
END:VEVENT
END:VCALENDAR