BEGIN:VCALENDAR
VERSION:2.0
PRODID:-//The Barker Adoption Foundation - ECPv6.15.20//NONSGML v1.0//EN
CALSCALE:GREGORIAN
METHOD:PUBLISH
X-WR-CALNAME:The Barker Adoption Foundation
X-ORIGINAL-URL:https://barkeradoptionfoundation.org
X-WR-CALDESC:Events for The Barker Adoption Foundation
REFRESH-INTERVAL;VALUE=DURATION:PT1H
X-Robots-Tag:noindex
X-PUBLISHED-TTL:PT1H
BEGIN:VTIMEZONE
TZID:America/New_York
BEGIN:DAYLIGHT
TZOFFSETFROM:-0500
TZOFFSETTO:-0400
TZNAME:EDT
DTSTART:20250309T070000
END:DAYLIGHT
BEGIN:STANDARD
TZOFFSETFROM:-0400
TZOFFSETTO:-0500
TZNAME:EST
DTSTART:20251102T060000
END:STANDARD
BEGIN:DAYLIGHT
TZOFFSETFROM:-0500
TZOFFSETTO:-0400
TZNAME:EDT
DTSTART:20260308T070000
END:DAYLIGHT
BEGIN:STANDARD
TZOFFSETFROM:-0400
TZOFFSETTO:-0500
TZNAME:EST
DTSTART:20261101T060000
END:STANDARD
BEGIN:DAYLIGHT
TZOFFSETFROM:-0500
TZOFFSETTO:-0400
TZNAME:EDT
DTSTART:20270314T070000
END:DAYLIGHT
BEGIN:STANDARD
TZOFFSETFROM:-0400
TZOFFSETTO:-0500
TZNAME:EST
DTSTART:20271107T060000
END:STANDARD
END:VTIMEZONE
BEGIN:VEVENT
DTSTART;VALUE=DATE:20261014
DTEND;VALUE=DATE:20261015
DTSTAMP:20260422T091418
CREATED:20260311T184503Z
LAST-MODIFIED:20260311T190747Z
UID:10000486-1791936000-1792022399@barkeradoptionfoundation.org
SUMMARY:Domestic Infant/International Waiting Parent Meetings (October)
DESCRIPTION:This group is open to Barker approved prospective adoptive parents.  Current topics related to domestic and international adoption are discussed. \nTo learn more or register\, please contact Caitlin Alfaro – calfaro@barkerfoundation.org
URL:https://barkeradoptionfoundation.org/events-calendar/domestic-infant-international-waiting-parent-meetings-october/
LOCATION:Barker Adoption Foundation\, 7979 Old Georgetown Road\, Bethesda\, MD\, 20814\, United States
CATEGORIES:Prospective Parent Domestic Adoption,Prospective Parent International Adoption,Support/Discussion Groups
ATTACH;FMTTYPE=image/jpeg:https://barkeradoptionfoundation.org/wp-content/uploads/2025/12/Barker-Adoption-Foundation-homepage.jpg
END:VEVENT
BEGIN:VEVENT
DTSTART;TZID=America/New_York:20261108T093000
DTEND;TZID=America/New_York:20261108T110000
DTSTAMP:20260422T091418
CREATED:20251202T004432Z
LAST-MODIFIED:20260227T023338Z
UID:10000425-1794130200-1794135600@barkeradoptionfoundation.org
SUMMARY:Sundays at Barker: Meet-Up for Parents with Young Children (Infant to 6) (November 2026)
DESCRIPTION:Sundays at Barker is a special monthly gathering for adoptive parents and their children (infants to age 6). It’s a chance to enjoy playful activities\, build connections with other families\, and feel supported by the Barker community. This free program is open to all adoptive families—no prior connection with Barker is needed. Please feel free to share this event with friends or family who may benefit from attending. \nLocation: The Barker Adoption Foundation\, 7979 Old Georgetown Rd\, 1st floor\, Bethesda\, MD 20814 \nDate and time: Sun\, Nov 8\, 2026 9:30 AM – 11:00 AM \nOrganizer: Cynthia Cubbage\, ccubbage@barkerfoundation.org \nRegister Now!
URL:https://barkeradoptionfoundation.org/events-calendar/sundays-at-barker-meet-up-for-parents-with-young-children-infant-to-6-november-2026-2/
LOCATION:Barker Adoption Foundation\, 7979 Old Georgetown Road\, Bethesda\, MD\, 20814\, United States
CATEGORIES:Adoptive Parent,Events for Adoptive Youth,Sundays at Barker,Support/Discussion Groups
ATTACH;FMTTYPE=image/png:https://barkeradoptionfoundation.org/wp-content/uploads/2026/02/Sundays-at-Barker-2026-scaled.png
END:VEVENT
BEGIN:VEVENT
DTSTART;VALUE=DATE:20261202
DTEND;VALUE=DATE:20261203
DTSTAMP:20260422T091418
CREATED:20260311T184542Z
LAST-MODIFIED:20260311T190734Z
UID:10000487-1796169600-1796255999@barkeradoptionfoundation.org
SUMMARY:Domestic Infant/International Waiting Parent Meetings (December)
DESCRIPTION:This group is open to Barker approved prospective adoptive parents.  Current topics related to domestic and international adoption are discussed. \nTo learn more or register\, please contact Caitlin Alfaro – calfaro@barkerfoundation.org
URL:https://barkeradoptionfoundation.org/events-calendar/domestic-infant-international-waiting-parent-meetings-december/
LOCATION:Barker Adoption Foundation\, 7979 Old Georgetown Road\, Bethesda\, MD\, 20814\, United States
CATEGORIES:Prospective Parent Domestic Adoption,Prospective Parent International Adoption,Support/Discussion Groups
ATTACH;FMTTYPE=image/jpeg:https://barkeradoptionfoundation.org/wp-content/uploads/2025/12/Barker-Adoption-Foundation-homepage.jpg
END:VEVENT
END:VCALENDAR